BEGIN:VCALENDAR
VERSION:2.0
PRODID:-//wp-events-plugin.com//7.2.3.1//EN
TZID:Europe/Berlin
X-WR-TIMEZONE:Europe/Berlin
BEGIN:VEVENT
UID:498@xc-run.de
DTSTART;TZID=Europe/Berlin;VALUE=DATE:20260930
DTEND;TZID=Europe/Berlin;VALUE=DATE:20261005
DTSTAMP:20251008T193128Z
URL:https://xc-run.de/events/eventkalender/kilimanjaro-peak-ultra-2/
SUMMARY:Kilimanjaro Peak Ultra
DESCRIPTION:Der höchste Berg Afrikas\, der höchste freistehende Berg der 
 Welt\, einer der Seven Summits\, ein Traumziel für Tausende von Outdoor-E
 nthusiasten weltweit - der Kilimanjaro in Tansania ist mit seinen 5895 Hö
 henmetern ein einmaliges Erlebnis und Herausforderung zugleich. Und nun wi
 rd der Traum von der Besteigung auch für Trailrunner wahr: Der Kilimanjar
 o Peak Ultra (KPU) führt die Läuferinnen und Läufer vom Marangu Gate zu
 m Gipfel und wieder zurück. Zusammen mit Elia Safaris aus Tansania organi
 siert die Event Agentur Plan B diesen spektakulären Lauf mit insgesamt 68
  Kilometern und 4100 Höhenmetern. Premiere ist im Oktober 2026.
ATTACH;FMTTYPE=image/jpeg:https://xc-run.de/wp-content/uploads/2025/07/Kal
 enderOhne.jpg
CATEGORIES:Trailevents
LOCATION:Marangu Gate\, Marangu Gate\, Marangu\, Tansania
GEO:-3.283542;37.521486
X-APPLE-STRUCTURED-LOCATION;VALUE=URI;X-ADDRESS=Marangu Gate\, Marangu\, Ta
 nsania;X-APPLE-RADIUS=100;X-TITLE=Marangu Gate:geo:-3.283542,37.521486
END:VEVENT
BEGIN:VTIMEZONE
TZID:Europe/Berlin
X-LIC-LOCATION:Europe/Berlin
BEGIN:DAYLIGHT
DTSTART:20260329T030000
TZOFFSETFROM:+0100
TZOFFSETTO:+0200
TZNAME:CEST
END:DAYLIGHT
END:VTIMEZONE
END:VCALENDAR