BEGIN:VCALENDAR
VERSION:2.0
PRODID:-//wp-events-plugin.com//7.2.3.1//EN
TZID:Europe/Berlin
X-WR-TIMEZONE:Europe/Berlin
BEGIN:VEVENT
UID:500@xc-run.de
DTSTART;TZID=Europe/Berlin;VALUE=DATE:20261030
DTEND;TZID=Europe/Berlin;VALUE=DATE:20261101
DTSTAMP:20260213T160032Z
URL:https://xc-run.de/events/eventkalender/kullamannen-by-utmb/
SUMMARY:Kullamannen by UTMB
DESCRIPTION:Auch Schweden kann Ultratrail – Ort des Geschehens ist die s
 üdschwedische Ortschaft Mölle\, die an der Spitze der Halbinsel Kullen l
 iegt. Daran anschließend liegt das Naturreservat Kullaberg das ebenfalls 
 Bestandteil des Kullamannen by UTMB ist. Insgesamt werden vier unterschied
 liche Distanzen zwischen 20 km und 161 km angeboten
ATTACH;FMTTYPE=image/jpeg:https://xc-run.de/wp-content/uploads/2025/07/UTM
 B.jpg
CATEGORIES:Trailevents,UTMB World Series
LOCATION:Bastad\, Bastad\, Bastad\, Schweden
GEO:56.433303;12.835379
X-APPLE-STRUCTURED-LOCATION;VALUE=URI;X-ADDRESS=Bastad\, Bastad\, Schweden;
 X-APPLE-RADIUS=100;X-TITLE=Bastad:geo:56.433303,12.835379
END:VEVENT
BEGIN:VTIMEZONE
TZID:Europe/Berlin
X-LIC-LOCATION:Europe/Berlin
BEGIN:STANDARD
DTSTART:20261025T020000
TZOFFSETFROM:+0200
TZOFFSETTO:+0100
TZNAME:CET
END:STANDARD
END:VTIMEZONE
END:VCALENDAR