BEGIN:VCALENDAR
VERSION:2.0
PRODID:-//wp-events-plugin.com//7.2.3.1//EN
TZID:Europe/Berlin
X-WR-TIMEZONE:Europe/Berlin
BEGIN:VEVENT
UID:368@xc-run.de
DTSTART;TZID=Europe/Berlin;VALUE=DATE:20260926
DTEND;TZID=Europe/Berlin;VALUE=DATE:20260928
DTSTAMP:20251101T191947Z
URL:https://xc-run.de/events/eventkalender/kulmbach-trails-2/
SUMMARY:Kulmbach Trails
DESCRIPTION:Die Kulmbach Trails verbinden in faszinierender Weise die sehen
 swerte Altstadt von Kulmbach und dem Mittelgebirgscharakter der näheren U
 mgebung. Aber Vorsicht: man sollte die teilweise sehr steilen Anstiege bei
  den Strecken nicht unterschätzen.
ATTACH;FMTTYPE=image/jpeg:https://xc-run.de/wp-content/uploads/2025/07/Kal
 enderOhne.jpg
CATEGORIES:Trailevents
LOCATION:Kulmbach\, Marktplatz\, Kulmbach\, Bayern\, 95326\, Oberfranken\, 
 Deutschland
GEO:50.107128;11.458273
X-APPLE-STRUCTURED-LOCATION;VALUE=URI;X-ADDRESS=Marktplatz\, Kulmbach\, Bay
 ern\, 95326\, Oberfranken\, Deutschland;X-APPLE-RADIUS=100;X-TITLE=Kulmbac
 h:geo:50.107128,11.458273
END:VEVENT
BEGIN:VTIMEZONE
TZID:Europe/Berlin
X-LIC-LOCATION:Europe/Berlin
BEGIN:DAYLIGHT
DTSTART:20260329T030000
TZOFFSETFROM:+0100
TZOFFSETTO:+0200
TZNAME:CEST
END:DAYLIGHT
END:VTIMEZONE
END:VCALENDAR