BEGIN:VCALENDAR
VERSION:2.0
PRODID:-//wp-events-plugin.com//7.2.3.1//EN
TZID:Europe/Berlin
X-WR-TIMEZONE:Europe/Berlin
BEGIN:VEVENT
UID:308@xc-run.de
DTSTART;TZID=Europe/Berlin;VALUE=DATE:20260624
DTEND;TZID=Europe/Berlin;VALUE=DATE:20260629
DTSTAMP:20251020T190308Z
URL:https://xc-run.de/events/eventkalender/la-sportiva-lavaredo-ultra-trai
 l-copy/
SUMMARY:La Sportiva Lavaredo Ultra Trail by UTMB
DESCRIPTION:La Sportiva Lavaredo Ultra Trail by UTMB - Laufen im Schatten d
 er Drei Zinnen und der atemberaubenden Tofana. In und um Cortina d`Ampezzo
  ist alles auf den Beinen um die Läufer gebührend anzufeuern!
ATTACH;FMTTYPE=image/jpeg:https://xc-run.de/wp-content/uploads/2025/07/UTM
 B.jpg
CATEGORIES:UTMB World Series
LOCATION:La Sportiva Lavaredo Ultra Trail\, Via Bezzecca 7\, Cortina`d`Ampe
 zzo\, Südtirol\, 50139 \, Südtirol\, Italien
GEO:43.790328;11.260201
X-APPLE-STRUCTURED-LOCATION;VALUE=URI;X-ADDRESS=Via Bezzecca 7\, Cortina`d`
 Ampezzo\, Südtirol\, 50139 \, Südtirol\, Italien;X-APPLE-RADIUS=100;X-TI
 TLE=La Sportiva Lavaredo Ultra Trail:geo:43.790328,11.260201
END:VEVENT
BEGIN:VTIMEZONE
TZID:Europe/Berlin
X-LIC-LOCATION:Europe/Berlin
BEGIN:DAYLIGHT
DTSTART:20260329T030000
TZOFFSETFROM:+0100
TZOFFSETTO:+0200
TZNAME:CEST
END:DAYLIGHT
END:VTIMEZONE
END:VCALENDAR