BEGIN:VCALENDAR
VERSION:2.0
PRODID:-//wp-events-plugin.com//7.2.3.1//EN
TZID:Europe/Berlin
X-WR-TIMEZONE:Europe/Berlin
BEGIN:VEVENT
UID:392@xc-run.de
DTSTART;TZID=Europe/Berlin;VALUE=DATE:20260515
DTEND;TZID=Europe/Berlin;VALUE=DATE:20260517
DTSTAMP:20251120T201110Z
URL:https://xc-run.de/events/eventkalender/lhut/
SUMMARY:LHUT
DESCRIPTION:Die Mährisch-Schlesischen Beskiden im Osten Tschechiens sind d
 ieHeimat des LHUT der seit 2018 ausgetragen wird. Über gut laufbare Wande
 rwege für die beiden Distanzen unter anderem empor zum Kahlberg\, der mit
  seiner Höhe von 1.325 m zugleich die höchste Erhebung der gesamten Gege
 nd ist.
ATTACH;FMTTYPE=image/jpeg:https://xc-run.de/wp-content/uploads/2025/07/Kal
 enderOhne.jpg
CATEGORIES:Trailevents
LOCATION:LHUT\, Malenovice 334\, Malenovice\, Tschechische Republik
GEO:49.573911;18.412277
X-APPLE-STRUCTURED-LOCATION;VALUE=URI;X-ADDRESS=Malenovice 334\, Malenovice
 \, Tschechische Republik;X-APPLE-RADIUS=100;X-TITLE=LHUT:geo:49.573911,18.
 412277
END:VEVENT
BEGIN:VTIMEZONE
TZID:Europe/Berlin
X-LIC-LOCATION:Europe/Berlin
BEGIN:DAYLIGHT
DTSTART:20260329T030000
TZOFFSETFROM:+0100
TZOFFSETTO:+0200
TZNAME:CEST
END:DAYLIGHT
END:VTIMEZONE
END:VCALENDAR