BEGIN:VCALENDAR
VERSION:2.0
PRODID:-//wp-events-plugin.com//7.2.3.1//EN
TZID:Europe/Berlin
X-WR-TIMEZONE:Europe/Berlin
BEGIN:VEVENT
UID:343@xc-run.de
DTSTART;TZID=Europe/Berlin;VALUE=DATE:20260515
DTEND;TZID=Europe/Berlin;VALUE=DATE:20260517
DTSTAMP:20251027T200354Z
URL:https://xc-run.de/events/eventkalender/lichtenstein-trail-race-copy/
SUMMARY:Lichtenstein Trail
DESCRIPTION:Die Rennen und Trails im schwäbischen Lichtenstein sind neben 
 einer idealen Vorbereitung auf spätere Highlights in den Alpen\, auch ein
  persönlicher Höhepunkt für Trailrunner und Bergläufer. Dabei werden z
 wei unterschiedliche Strecken angeboten
ATTACH;FMTTYPE=image/jpeg:https://xc-run.de/wp-content/uploads/2025/07/Kal
 enderOhne.jpg
CATEGORIES:Trailevents
LOCATION:Lichtenstein\, Lichtenstein\, Lichtenstein\, Deutschland
GEO:48.4062419;9.258328000000006
X-APPLE-STRUCTURED-LOCATION;VALUE=URI;X-ADDRESS=Lichtenstein\, Lichtenstein
 \, Deutschland;X-APPLE-RADIUS=100;X-TITLE=Lichtenstein:geo:48.4062419,9.25
 8328000000006
END:VEVENT
BEGIN:VTIMEZONE
TZID:Europe/Berlin
X-LIC-LOCATION:Europe/Berlin
BEGIN:DAYLIGHT
DTSTART:20260329T030000
TZOFFSETFROM:+0100
TZOFFSETTO:+0200
TZNAME:CEST
END:DAYLIGHT
END:VTIMEZONE
END:VCALENDAR