BEGIN:VCALENDAR
VERSION:2.0
PRODID:-//wp-events-plugin.com//7.2.3.1//EN
TZID:Europe/Berlin
X-WR-TIMEZONE:Europe/Berlin
BEGIN:VEVENT
UID:581@xc-run.de
DTSTART;TZID=Europe/Berlin;VALUE=DATE:20260529
DTEND;TZID=Europe/Berlin;VALUE=DATE:20260601
DTSTAMP:20260417T124913Z
URL:https://xc-run.de/events/eventkalender/lofoten-ultratrail/
SUMMARY:Lofoten Ultratrail
DESCRIPTION:Der Arctic Triple // Lofoten Ultra-Trail ist das Rennen\, das d
 ie gesamte Inselgruppe von Moskenesøy bis Austvågøy umfasst. Die Streck
 e führt durch eine atemberaubende Landschaft mit Bergkämmen\, weißen St
 ränden\, grünen Hügeln und grauen Klippen
ATTACH;FMTTYPE=image/jpeg:https://xc-run.de/wp-content/uploads/2025/07/Kal
 enderOhne.jpg
CATEGORIES:Trailevents
LOCATION:Svolvær\, Svolvær\, Norwegen
GEO:68.234309;14.568224
X-APPLE-STRUCTURED-LOCATION;VALUE=URI;X-ADDRESS=Svolvær\, Norwegen;X-APPLE
 -RADIUS=100;X-TITLE=Svolvær:geo:68.234309,14.568224
END:VEVENT
BEGIN:VTIMEZONE
TZID:Europe/Berlin
X-LIC-LOCATION:Europe/Berlin
BEGIN:DAYLIGHT
DTSTART:20260329T030000
TZOFFSETFROM:+0100
TZOFFSETTO:+0200
TZNAME:CEST
END:DAYLIGHT
END:VTIMEZONE
END:VCALENDAR