BEGIN:VCALENDAR
VERSION:2.0
PRODID:-//wp-events-plugin.com//7.2.3.1//EN
TZID:Europe/Berlin
X-WR-TIMEZONE:Europe/Berlin
BEGIN:VEVENT
UID:512@xc-run.de
DTSTART;TZID=Europe/Berlin;VALUE=DATE:20260514
DTEND;TZID=Europe/Berlin;VALUE=DATE:20260518
DTSTAMP:20251205T124855Z
URL:https://xc-run.de/events/eventkalender/lowa-trail-trophy/
SUMMARY:Lowa Trail Trophy
DESCRIPTION:Nach der gelungenen Premiere kehrt 2026 der Lowa Trail Trophy z
 urück in den Rennkalender. Dieser wird von der Agentur Plan B aus Münche
 n organisiert und verläuft über vier Etappen mit Distanzen vom 22 bis 30
  Kilometern und bis zu 2000 Höhenmetern auf spektakulären Trails. Wie be
 im großen Bruder\, dem Transalpine Run\, geht es tagsüber im Wettkampf 
 über die Trails um danach im Zielbereich und vor allem auf den Abendveran
 staltungen mit Siegerehrung\, Runners Dinner sowie Bilder- und Videoshows 
 den Abend gemeinsam ausklingen zu lassen. Dieses Jahr gibt es auch die Mö
 glichkeit als Solo-Starter nur die beiden letzten Etappen zu laufen\, oder
  diesen Wettkampf als Staffel zu bestreiten.
ATTACH;FMTTYPE=image/jpeg:https://xc-run.de/wp-content/uploads/2025/05/LTT
 2025@AndiFrank_01342-1030x687-1.jpg
CATEGORIES:Etappenrennen,Trailevents
LOCATION:Pfronten\, Tiroler Straße 176\, Pfronten\, Bayern\, 87459\, Deuts
 chland
GEO:47.565019;10.575361
X-APPLE-STRUCTURED-LOCATION;VALUE=URI;X-ADDRESS=Tiroler Straße 176\, Pfron
 ten\, Bayern\, 87459\, Deutschland;X-APPLE-RADIUS=100;X-TITLE=Pfronten:geo
 :47.565019,10.575361
END:VEVENT
BEGIN:VTIMEZONE
TZID:Europe/Berlin
X-LIC-LOCATION:Europe/Berlin
BEGIN:DAYLIGHT
DTSTART:20260329T030000
TZOFFSETFROM:+0100
TZOFFSETTO:+0200
TZNAME:CEST
END:DAYLIGHT
END:VTIMEZONE
END:VCALENDAR