BEGIN:VCALENDAR
VERSION:2.0
PRODID:-//wp-events-plugin.com//7.2.3.1//EN
TZID:Europe/Berlin
X-WR-TIMEZONE:Europe/Berlin
BEGIN:VEVENT
UID:409@xc-run.de
DTSTART;TZID=Europe/Berlin;VALUE=DATE:20260424
DTEND;TZID=Europe/Berlin;VALUE=DATE:20260427
DTSTAMP:20250915T194259Z
URL:https://xc-run.de/events/eventkalender/madeira-island-ultra-trail-miut
 /
SUMMARY:Madeira Island Ultra-Trail MIUT
DESCRIPTION:Der MIUT ist ein außergewöhnlicher Lauf der quer über die In
 sel verläuft. Gestartet auf Meereshöhe durchquert man die aufregende und
  atemberaubende Flora der Blumeninsel. Mit Distanzen zwischen 16km und 115
 km ist für jeden Läufer etwas dabei.
ATTACH;FMTTYPE=image/jpeg:https://xc-run.de/wp-content/uploads/2025/07/Kal
 enderOhne.jpg
CATEGORIES:Trailevents
LOCATION:Porto Moniz\, Frente de Mar de Porto Moniz\, Porto Moniz\, Portuga
 l
GEO:32.867579;-17.169155
X-APPLE-STRUCTURED-LOCATION;VALUE=URI;X-ADDRESS=Frente de Mar de Porto Moni
 z\, Porto Moniz\, Portugal;X-APPLE-RADIUS=100;X-TITLE=Porto Moniz:geo:32.8
 67579,-17.169155
END:VEVENT
BEGIN:VTIMEZONE
TZID:Europe/Berlin
X-LIC-LOCATION:Europe/Berlin
BEGIN:DAYLIGHT
DTSTART:20260329T030000
TZOFFSETFROM:+0100
TZOFFSETTO:+0200
TZNAME:CEST
END:DAYLIGHT
END:VTIMEZONE
END:VCALENDAR