BEGIN:VCALENDAR
VERSION:2.0
PRODID:-//wp-events-plugin.com//7.2.3.1//EN
TZID:Europe/Berlin
X-WR-TIMEZONE:Europe/Berlin
BEGIN:VEVENT
UID:545@xc-run.de
DTSTART;TZID=Europe/Berlin;VALUE=DATE:20261030
DTEND;TZID=Europe/Berlin;VALUE=DATE:20261102
DTSTAMP:20260213T160116Z
URL:https://xc-run.de/events/eventkalender/mallorca-by-utmb/
SUMMARY:Mallorca by UTMB
DESCRIPTION:Erlebe die pure Essenz Mallorcas – wo Meer\, Land und Himmel 
 aufeinandertreffen. Die Mallorca by UTMB® führt dich durch die beeindruc
 kende Serra de Tramuntana\, ein UNESCO-Welterbe\, und bietet vier abwechsl
 ungsreiche Distanzen (100M\, 100K\, 50K\, 20K). Tauche ein in eines der vi
 elfältigsten Trailrunning-Erlebnisse der Welt – ein außergewöhnliches
  Abenteuer inmitten mediterraner Natur.
ATTACH;FMTTYPE=image/jpeg:https://xc-run.de/wp-content/uploads/2025/07/UTM
 B.jpg
CATEGORIES:Trailevents,UTMB World Series
LOCATION:Mallorca by UTMB\, Aparcamiento\, Diseminado Carretera al Mar\, 53
 \, 07192 Estellencs\, Balearic Islands\, Spanien\, Estellencs\, Balearic I
 slands\, Spanien\, Spanien
GEO:39.658067;2.470992
X-APPLE-STRUCTURED-LOCATION;VALUE=URI;X-ADDRESS=Aparcamiento\, Diseminado C
 arretera al Mar\, 53\, 07192 Estellencs\, Balearic Islands\, Spanien\, Est
 ellencs\, Balearic Islands\, Spanien\, Spanien;X-APPLE-RADIUS=100;X-TITLE=
 Mallorca by UTMB:geo:39.658067,2.470992
END:VEVENT
BEGIN:VTIMEZONE
TZID:Europe/Berlin
X-LIC-LOCATION:Europe/Berlin
BEGIN:STANDARD
DTSTART:20261025T020000
TZOFFSETFROM:+0200
TZOFFSETTO:+0100
TZNAME:CET
END:STANDARD
END:VTIMEZONE
END:VCALENDAR