BEGIN:VCALENDAR
VERSION:2.0
PRODID:-//wp-events-plugin.com//7.2.3.1//EN
TZID:Europe/Berlin
X-WR-TIMEZONE:Europe/Berlin
BEGIN:VEVENT
UID:419@xc-run.de
DTSTART;TZID=Europe/Berlin;VALUE=DATE:20260625
DTEND;TZID=Europe/Berlin;VALUE=DATE:20260629
DTSTAMP:20251028T202533Z
URL:https://xc-run.de/events/eventkalender/marathon-du-mont-blanc-2/
SUMMARY:Marathon du Mont Blanc
DESCRIPTION:Beim UTMB keinen Startplatz bekommen? Kein Problem\, beim Marat
 hon du Mont Blanc hast Du die Möglichkeit bei sechs unterschiedlichen Wet
 tkämpfen die Gegend rund um das markante Massiv kennenzulernen. Die klass
 ische Marathondistanz ist ein Wertungslauf zur Golden Trail Series.
ATTACH;FMTTYPE=image/jpeg:https://xc-run.de/wp-content/uploads/2025/07/Kal
 enderOhne.jpg
CATEGORIES:Golden Trail Series,Trailevents
LOCATION:Chamonix\, Avenue de la Plage\, Chamonix \, Frankreich
GEO:45.9279053;6.873202200000037
X-APPLE-STRUCTURED-LOCATION;VALUE=URI;X-ADDRESS=Avenue de la Plage\, Chamon
 ix \, Frankreich;X-APPLE-RADIUS=100;X-TITLE=Chamonix:geo:45.9279053,6.8732
 02200000037
END:VEVENT
BEGIN:VTIMEZONE
TZID:Europe/Berlin
X-LIC-LOCATION:Europe/Berlin
BEGIN:DAYLIGHT
DTSTART:20260329T030000
TZOFFSETFROM:+0100
TZOFFSETTO:+0200
TZNAME:CEST
END:DAYLIGHT
END:VTIMEZONE
END:VCALENDAR