BEGIN:VCALENDAR
VERSION:2.0
PRODID:-//wp-events-plugin.com//7.2.3.1//EN
TZID:Europe/Berlin
X-WR-TIMEZONE:Europe/Berlin
BEGIN:VEVENT
UID:362@xc-run.de
DTSTART;TZID=Europe/Berlin;VALUE=DATE:20260821
DTEND;TZID=Europe/Berlin;VALUE=DATE:20260824
DTSTAMP:20251025T192530Z
URL:https://xc-run.de/events/eventkalender/matterhorn-ultraks-2/
SUMMARY:Matterhorn Ultraks
DESCRIPTION:Trailrunning im Schatten des Matterhorns in Blickweite zum Mont
 e Rosa Massiv - der Matterhorn Ultraks ist ein Event der Superlative. Dabe
 i werden die unterschiedlichsten Strecken mit einer Distanz von 6\,3 km bi
 s hin zu 49 km im Zentrum von Zermatt gestartet.
ATTACH;FMTTYPE=image/jpeg:https://xc-run.de/wp-content/uploads/2025/07/Kal
 enderOhne.jpg
CATEGORIES:Skyrunning,Trailevents
LOCATION:Zermatt\, Zermatt\, Zermatt\, Schweiz
GEO:46.0207133;7.749117000000069
X-APPLE-STRUCTURED-LOCATION;VALUE=URI;X-ADDRESS=Zermatt\, Zermatt\, Schweiz
 ;X-APPLE-RADIUS=100;X-TITLE=Zermatt:geo:46.0207133,7.749117000000069
END:VEVENT
BEGIN:VTIMEZONE
TZID:Europe/Berlin
X-LIC-LOCATION:Europe/Berlin
BEGIN:DAYLIGHT
DTSTART:20260329T030000
TZOFFSETFROM:+0100
TZOFFSETTO:+0200
TZNAME:CEST
END:DAYLIGHT
END:VTIMEZONE
END:VCALENDAR