BEGIN:VCALENDAR
VERSION:2.0
PRODID:-//wp-events-plugin.com//7.2.3.1//EN
TZID:Europe/Berlin
X-WR-TIMEZONE:Europe/Berlin
BEGIN:VEVENT
UID:372@xc-run.de
DTSTART;TZID=Europe/Berlin;VALUE=DATE:20260904
DTEND;TZID=Europe/Berlin;VALUE=DATE:20260906
DTSTAMP:20251025T193127Z
URL:https://xc-run.de/events/eventkalender/mayrhofen-ultraks-zillertal/
SUMMARY:Mayrhofen Ultraks Zillertal
DESCRIPTION:Der Mayrhofen Ultraks bringt uns die unvergesslichen Schönheit
 en des Zillertals nahe und bietet vom Anfänger beginnend über den geübt
 en Genussläufer bis hin zum ambitionierten Trailrunner die passende Dista
 nz.
ATTACH;FMTTYPE=image/jpeg:https://xc-run.de/wp-content/uploads/2025/07/Kal
 enderOhne.jpg
CATEGORIES:Golden Trail Series,Trailevents
LOCATION:Mayrhofen\, Durster Straße 228\, Mayrhofen\, Tirol\, 6290\, Zille
 rtal\, Österreich
GEO:47.168257;11.86711
X-APPLE-STRUCTURED-LOCATION;VALUE=URI;X-ADDRESS=Durster Straße 228\, Mayrh
 ofen\, Tirol\, 6290\, Zillertal\, Österreich;X-APPLE-RADIUS=100;X-TITLE=M
 ayrhofen:geo:47.168257,11.86711
END:VEVENT
BEGIN:VTIMEZONE
TZID:Europe/Berlin
X-LIC-LOCATION:Europe/Berlin
BEGIN:DAYLIGHT
DTSTART:20260329T030000
TZOFFSETFROM:+0100
TZOFFSETTO:+0200
TZNAME:CEST
END:DAYLIGHT
END:VTIMEZONE
END:VCALENDAR