BEGIN:VCALENDAR
VERSION:2.0
PRODID:-//wp-events-plugin.com//7.2.3.1//EN
TZID:Europe/Berlin
X-WR-TIMEZONE:Europe/Berlin
BEGIN:VEVENT
UID:336@xc-run.de
DTSTART;TZID=Europe/Berlin;VALUE=DATE:20260626
DTEND;TZID=Europe/Berlin;VALUE=DATE:20260628
DTSTAMP:20251028T202327Z
URL:https://xc-run.de/events/eventkalender/montafon-arlberg-marathon-2/
SUMMARY:Montafon Arlberg Marathon
DESCRIPTION:Der Montafon Arlberg Marathon verspricht wieder sportliche Höc
 hstleistungen samt atemberaubender Bergkulisse. Auf idyllischen Forst- und
  Alpwegen – fernab jeglichen Straßenverkehrs – führt der wohl schön
 ste Bergmarathon Westösterreichs von St. Anton am Arlberg über das Winte
 rjöchle in die Montafoner Gemeinde Silbertal. Daneben gibt es eine 33 km 
 und eine 17 km lange Strecke.
ATTACH;FMTTYPE=image/jpeg:https://xc-run.de/wp-content/uploads/2025/07/Kal
 enderOhne.jpg
CATEGORIES:Trailevents
LOCATION:Montafon\, Montafoner Straße\, Schruns\, Österreich
GEO:47.0713752;9.916656099999955
X-APPLE-STRUCTURED-LOCATION;VALUE=URI;X-ADDRESS=Montafoner Straße\, Schrun
 s\, Österreich;X-APPLE-RADIUS=100;X-TITLE=Montafon:geo:47.0713752,9.91665
 6099999955
END:VEVENT
BEGIN:VTIMEZONE
TZID:Europe/Berlin
X-LIC-LOCATION:Europe/Berlin
BEGIN:DAYLIGHT
DTSTART:20260329T030000
TZOFFSETFROM:+0100
TZOFFSETTO:+0200
TZNAME:CEST
END:DAYLIGHT
END:VTIMEZONE
END:VCALENDAR