BEGIN:VCALENDAR
VERSION:2.0
PRODID:-//wp-events-plugin.com//7.2.3.1//EN
TZID:Europe/Berlin
X-WR-TIMEZONE:Europe/Berlin
BEGIN:VEVENT
UID:383@xc-run.de
DTSTART;TZID=Europe/Berlin;VALUE=DATE:20260703
DTEND;TZID=Europe/Berlin;VALUE=DATE:20260705
DTSTAMP:20251024T193610Z
URL:https://xc-run.de/events/eventkalender/montafon-totale-trail/
SUMMARY:Montafon Totale Trail
DESCRIPTION:BeimMontafon Totale Trail gehen die Läufer im hochalpinen Gel
 ände an ihre Grenzen und staunen gleichzeitig über die Schönheit der Mo
 ntafoner Bergwelt. Dabei stehen drei verschiedene Distanzen zwischen 10km 
 und 47km zur Auswahl.
ATTACH;FMTTYPE=image/jpeg:https://xc-run.de/wp-content/uploads/2025/07/Kal
 enderOhne.jpg
CATEGORIES:Trailevents
LOCATION:Montafon Totale Trail\, Alpin Sport Zentrale\, Schruns\, Österrei
 ch
GEO:47.08004;9.919878
X-APPLE-STRUCTURED-LOCATION;VALUE=URI;X-ADDRESS=Alpin Sport Zentrale\, Schr
 uns\, Österreich;X-APPLE-RADIUS=100;X-TITLE=Montafon Totale Trail:geo:47.
 08004,9.919878
END:VEVENT
BEGIN:VTIMEZONE
TZID:Europe/Berlin
X-LIC-LOCATION:Europe/Berlin
BEGIN:DAYLIGHT
DTSTART:20260329T030000
TZOFFSETFROM:+0100
TZOFFSETTO:+0200
TZNAME:CEST
END:DAYLIGHT
END:VTIMEZONE
END:VCALENDAR