BEGIN:VCALENDAR
VERSION:2.0
PRODID:-//wp-events-plugin.com//7.2.3.1//EN
TZID:Europe/Berlin
X-WR-TIMEZONE:Europe/Berlin
BEGIN:VEVENT
UID:455@xc-run.de
DTSTART;TZID=Europe/Berlin;VALUE=DATE:20260612
DTEND;TZID=Europe/Berlin;VALUE=DATE:20260614
DTSTAMP:20251026T200629Z
URL:https://xc-run.de/events/eventkalender/monte-rosa-skymarathon/
SUMMARY:Monte Rosa Skymarathon
DESCRIPTION:Europas höchstes Rennen geht 2024 in die nächste Runde und bi
 etet neben den bereits bekannten Monte Rosa Sky Marathon und dem AMA VK2 d
 en neuen Monte Rosa Vertical an. Beim Aushängeschild dieser Veranstaltung
 \, dem Monte Rosa Sky Marathon werden Moränen\, Schneefelder und Gletsche
 r über 35 Kilometer mit 7.000 Höhenmetern im Auf- und Abstieg überquert
 . Die Athleten nehmen aus Sicherheitsgründen paarweise und punktgleich te
 il. Für diese Herausforderung sind 200 Teams (400 Athleten) zugelassen.
ATTACH;FMTTYPE=image/jpeg:https://xc-run.de/wp-content/uploads/2025/07/Kal
 enderOhne.jpg
CATEGORIES:Trailevents
LOCATION:Alagna Valesia\, Via dei Walser\, Alagna Valesia\, Italien
GEO:45.850939;7.937662
X-APPLE-STRUCTURED-LOCATION;VALUE=URI;X-ADDRESS=Via dei Walser\, Alagna Val
 esia\, Italien;X-APPLE-RADIUS=100;X-TITLE=Alagna Valesia:geo:45.850939,7.9
 37662
END:VEVENT
BEGIN:VTIMEZONE
TZID:Europe/Berlin
X-LIC-LOCATION:Europe/Berlin
BEGIN:DAYLIGHT
DTSTART:20260329T030000
TZOFFSETFROM:+0100
TZOFFSETTO:+0200
TZNAME:CEST
END:DAYLIGHT
END:VTIMEZONE
END:VCALENDAR