BEGIN:VCALENDAR
VERSION:2.0
PRODID:-//wp-events-plugin.com//7.2.3.1//EN
TZID:Europe/Berlin
X-WR-TIMEZONE:Europe/Berlin
BEGIN:VEVENT
UID:322@xc-run.de
DTSTART;TZID=Europe/Berlin;VALUE=DATE:20260508
DTEND;TZID=Europe/Berlin;VALUE=DATE:20260510
DTSTAMP:20260416T082500Z
URL:https://xc-run.de/events/eventkalender/mountainman-koenigstrail-nessel
 wang/
SUMMARY:MOUNTAINMAN Königstrail - Nesselwang
DESCRIPTION:Beim MOUNTAINMAN Königstrail in Nesselwang werden fünf unters
 chiedliche Strecken mit Distanzen zwischen 10 km und 70 km angeboten. Bei 
 der 8. Ausgabe im Jahr 2026 wird auf der XXL-Strecke auch die deutsche Mei
 sterschaft im Ultratrail ausgetragen.
ATTACH;FMTTYPE=image/jpeg:https://xc-run.de/wp-content/uploads/2025/07/Kal
 enderOhne.jpg
CATEGORIES:Trailevents
LOCATION:Nesselwang\, Trendsportzentrum\, Nesselwang\, Bayern\, 87484\, All
 gäu\, Deutschland
GEO:47.61492;10.513877
X-APPLE-STRUCTURED-LOCATION;VALUE=URI;X-ADDRESS=Trendsportzentrum\, Nesselw
 ang\, Bayern\, 87484\, Allgäu\, Deutschland;X-APPLE-RADIUS=100;X-TITLE=Ne
 sselwang:geo:47.61492,10.513877
END:VEVENT
BEGIN:VTIMEZONE
TZID:Europe/Berlin
X-LIC-LOCATION:Europe/Berlin
BEGIN:DAYLIGHT
DTSTART:20260329T030000
TZOFFSETFROM:+0100
TZOFFSETTO:+0200
TZNAME:CEST
END:DAYLIGHT
END:VTIMEZONE
END:VCALENDAR