BEGIN:VCALENDAR
VERSION:2.0
PRODID:-//wp-events-plugin.com//7.2.3.1//EN
TZID:Europe/Berlin
X-WR-TIMEZONE:Europe/Berlin
BEGIN:VEVENT
UID:324@xc-run.de
DTSTART;TZID=Europe/Berlin;VALUE=DATE:20260828
DTEND;TZID=Europe/Berlin;VALUE=DATE:20260830
DTSTAMP:20250930T191250Z
URL:https://xc-run.de/events/eventkalender/mountainman-wintertrail-reit-im
 -winkel-copy-copy-copy-copy/
SUMMARY:MOUNTAINMAN Almen-Trail Großarltal
DESCRIPTION:Im Großarltal warten traumhafte Singletrails auf die Läuferin
 nen und Läufer. Die anspruchsvollen Strecken führen über beeindruckende
  Gipfel und schmale Grate\, vorbei an 400 Jahre alten Almen. An einigen de
 r schönsten\, ältesten und urigsten Almen warten die Verpflegungsstellen
 . Ein Stück geht es am idyllischen Salzburger Almenweg entlang. Die Alpen
 rosen blühen zu dieser Zeit fast überall und Kühe\, Ziegen\, Schafe und
  Pferde grasen auf den saftigen Weiden. Die Läuferinnen und Läufer könn
 en eine von vier Strecken zwischen 9km und 50km wählen. Neu wird in diese
 m Jahr eine XXL- Strecke mit 68km und 3.831HM angeboten.
ATTACH;FMTTYPE=image/jpeg:https://xc-run.de/wp-content/uploads/2025/07/Kal
 enderOhne.jpg
CATEGORIES:Trailevents
LOCATION:Großarl\, Unterbergstraße 72\, Großarl\, Salzburger Land\, Öst
 erreich
GEO:47.241579;13.195123
X-APPLE-STRUCTURED-LOCATION;VALUE=URI;X-ADDRESS=Unterbergstraße 72\, Groß
 arl\, Salzburger Land\, Österreich;X-APPLE-RADIUS=100;X-TITLE=Großarl:ge
 o:47.241579,13.195123
END:VEVENT
BEGIN:VTIMEZONE
TZID:Europe/Berlin
X-LIC-LOCATION:Europe/Berlin
BEGIN:DAYLIGHT
DTSTART:20260329T030000
TZOFFSETFROM:+0100
TZOFFSETTO:+0200
TZNAME:CEST
END:DAYLIGHT
END:VTIMEZONE
END:VCALENDAR