BEGIN:VCALENDAR
VERSION:2.0
PRODID:-//wp-events-plugin.com//7.2.3.1//EN
TZID:Europe/Berlin
X-WR-TIMEZONE:Europe/Berlin
BEGIN:VEVENT
UID:323@xc-run.de
DTSTART;TZID=Europe/Berlin;VALUE=DATE:20260925
DTEND;TZID=Europe/Berlin;VALUE=DATE:20260927
DTSTAMP:20260416T082652Z
URL:https://xc-run.de/events/eventkalender/mountainman-wintertrail-reit-im
 -winkel-copy-copy-copy/
SUMMARY:MOUNTAINMAN Reit im Winkl
DESCRIPTION:In Reit im Winkl werden dieses Jahr von der MOUNTAINMAN-Crew wi
 eder fünf Strecken mit Distanzen zwischen 11km und 75km angeboten. 
ATTACH;FMTTYPE=image/jpeg:https://xc-run.de/wp-content/uploads/2025/07/Kal
 enderOhne.jpg
CATEGORIES:Trailevents
LOCATION:Reit im Winkl\, Tiroler Straße 37\, Reit im Winkl\, Bayern\, 8324
 2\, Deutschland
GEO:47.675443;12.465664
X-APPLE-STRUCTURED-LOCATION;VALUE=URI;X-ADDRESS=Tiroler Straße 37\, Reit i
 m Winkl\, Bayern\, 83242\, Deutschland;X-APPLE-RADIUS=100;X-TITLE=Reit im 
 Winkl:geo:47.675443,12.465664
END:VEVENT
BEGIN:VTIMEZONE
TZID:Europe/Berlin
X-LIC-LOCATION:Europe/Berlin
BEGIN:DAYLIGHT
DTSTART:20260329T030000
TZOFFSETFROM:+0100
TZOFFSETTO:+0200
TZNAME:CEST
END:DAYLIGHT
END:VTIMEZONE
END:VCALENDAR