BEGIN:VCALENDAR
VERSION:2.0
PRODID:-//wp-events-plugin.com//7.2.3.1//EN
TZID:Europe/Berlin
X-WR-TIMEZONE:Europe/Berlin
BEGIN:VEVENT
UID:307@xc-run.de
DTSTART;TZID=Europe/Berlin;VALUE=DATE:20260523
DTEND;TZID=Europe/Berlin;VALUE=DATE:20260524
DTSTAMP:20251027T130305Z
URL:https://xc-run.de/events/eventkalender/mozart-100-copy/
SUMMARY:Mozart100 by UTMB
DESCRIPTION:Am 06. Juni 2026 findet die 14. Ausgabe des Mozart100 by UTMB s
 tatt. Tauche ein in den Zauber der weltberühmten Mozartstadt und erlebe e
 in unvergessliches Abenteuer auf den Trails entlang der wunderschönen Ber
 gkulisse und durch die atemberaubende und vielseitige Natur des Salzburger
  Lands\, das mit einem einzigartigen Zieleinlauf im Herzen der Salzburger 
 Altstadt gekrönt wird.
ATTACH;FMTTYPE=image/jpeg:https://xc-run.de/wp-content/uploads/2025/07/UTM
 B.jpg
CATEGORIES:UTMB World Series
LOCATION:Mozart 100\, Kapitelplatz\, Salzburg\, Salzburger Land\, 5020\, Sa
 lzburger Land\, Österreich
GEO:47.797032;13.046395
X-APPLE-STRUCTURED-LOCATION;VALUE=URI;X-ADDRESS=Kapitelplatz\, Salzburg\, S
 alzburger Land\, 5020\, Salzburger Land\, Österreich;X-APPLE-RADIUS=100;X
 -TITLE=Mozart 100:geo:47.797032,13.046395
END:VEVENT
BEGIN:VTIMEZONE
TZID:Europe/Berlin
X-LIC-LOCATION:Europe/Berlin
BEGIN:DAYLIGHT
DTSTART:20260329T030000
TZOFFSETFROM:+0100
TZOFFSETTO:+0200
TZNAME:CEST
END:DAYLIGHT
END:VTIMEZONE
END:VCALENDAR