BEGIN:VCALENDAR
VERSION:2.0
PRODID:-//wp-events-plugin.com//7.2.3.1//EN
TZID:Europe/Berlin
X-WR-TIMEZONE:Europe/Berlin
BEGIN:VEVENT
UID:444@xc-run.de
DTSTART;TZID=Europe/Berlin;VALUE=DATE:20260704
DTEND;TZID=Europe/Berlin;VALUE=DATE:20260706
DTSTAMP:20251028T202912Z
URL:https://xc-run.de/events/eventkalender/nebelhorn-berglauf/
SUMMARY:Nebelhorn Berglauf
DESCRIPTION:Das Nebelhorn ist 2.224 m hoch und gehört zur Daumengruppe in 
 den Allgäuer Alpen. Es ist von Oberstdorf aus mit der höchsten Bergbahn 
 des Allgäus\, der Nebelhornbahn\, zu erreichen. Der Gipfel selbst ist ein
  bekannter Aussichtspunkt\, von dem aus sich ein 400 Gipfel-Panorama-Blick
  bis weit ins Alpenmassiv ermöglicht. Diesen Blick muss man sich beim Neb
 elhorn Berglauf hart erarbeiten. Denn auf einer Strecke von 9\,7km muss ma
 n 1.420 HM überwinden.
ATTACH;FMTTYPE=image/jpeg:https://xc-run.de/wp-content/uploads/2025/07/Kal
 enderOhne.jpg
CATEGORIES:Berglauf
LOCATION:Oberstdorf\, Nebelhornstraße\, Oberstdorf\, Bayern\, Deutschland
GEO:47.407337;10.281951
X-APPLE-STRUCTURED-LOCATION;VALUE=URI;X-ADDRESS=Nebelhornstraße\, Oberstdo
 rf\, Bayern\, Deutschland;X-APPLE-RADIUS=100;X-TITLE=Oberstdorf:geo:47.407
 337,10.281951
END:VEVENT
BEGIN:VTIMEZONE
TZID:Europe/Berlin
X-LIC-LOCATION:Europe/Berlin
BEGIN:DAYLIGHT
DTSTART:20260329T030000
TZOFFSETFROM:+0100
TZOFFSETTO:+0200
TZNAME:CEST
END:DAYLIGHT
END:VTIMEZONE
END:VCALENDAR