BEGIN:VCALENDAR
VERSION:2.0
PRODID:-//wp-events-plugin.com//7.2.3.1//EN
TZID:Europe/Berlin
X-WR-TIMEZONE:Europe/Berlin
BEGIN:VEVENT
UID:471@xc-run.de
DTSTART;TZID=Europe/Berlin;VALUE=DATE:20260925
DTEND;TZID=Europe/Berlin;VALUE=DATE:20260928
DTSTAMP:20251225T163314Z
URL:https://xc-run.de/events/eventkalender/nice-cote-dazur-by-utmb/
SUMMARY:Nice Côte d'Azur by UTMB
DESCRIPTION:Als Bestandteil der UTMB®- World Series entführt uns dieser E
 vent vom Massif du Mercantour bis hin zur legendären Côte d'Azur nach Ni
 zza und so wird diese Veranstaltung eine der größten Trailrunning-Verans
 taltung im Mittelmeerraum. Auf den vier Distanzen zwischen 25 km und 160 k
 m können die begehrten Running Stones für die Qualifizierung zum UTMB 20
 27 gesammelt werden.
ATTACH;FMTTYPE=image/jpeg:https://xc-run.de/wp-content/uploads/2025/07/UTM
 B.jpg
CATEGORIES:Trailevents,UTMB World Series
LOCATION:Nizza\, Promenade des Anglais\, Nizza\, Frankreich
GEO:43.695107;7.267825
X-APPLE-STRUCTURED-LOCATION;VALUE=URI;X-ADDRESS=Promenade des Anglais\, Niz
 za\, Frankreich;X-APPLE-RADIUS=100;X-TITLE=Nizza:geo:43.695107,7.267825
END:VEVENT
BEGIN:VTIMEZONE
TZID:Europe/Berlin
X-LIC-LOCATION:Europe/Berlin
BEGIN:DAYLIGHT
DTSTART:20260329T030000
TZOFFSETFROM:+0100
TZOFFSETTO:+0200
TZNAME:CEST
END:DAYLIGHT
END:VTIMEZONE
END:VCALENDAR