BEGIN:VCALENDAR
VERSION:2.0
PRODID:-//wp-events-plugin.com//7.2.3.1//EN
TZID:Europe/Berlin
X-WR-TIMEZONE:Europe/Berlin
BEGIN:VEVENT
UID:583@xc-run.de
DTSTART;TZID=Europe/Berlin;VALUE=DATE:20260620
DTEND;TZID=Europe/Berlin;VALUE=DATE:20260621
DTSTAMP:20260417T131226Z
URL:https://xc-run.de/events/eventkalender/nordmarka-skogsmaraton/
SUMMARY:Nordmarka Skogsmaraton
DESCRIPTION:Der Nordmarka Skogsmaraton ist einer der traditionsreichsten L
 äufe in Norwegen - schon zum 33. mal findet 2026 das Event statt! Und da 
 die Strecke zum Großteil auf Schotter und einigen Trails verläuft\, ist 
 dies ein großartiges Einsteigerrennen mit einer beeindruckenden Atmosphä
 re - Sport in Norwegen hat einfach einen anderen Stellenwert!
ATTACH;FMTTYPE=image/jpeg:https://xc-run.de/wp-content/uploads/2025/07/Kal
 enderOhne.jpg
CATEGORIES:Trailevents
LOCATION:Sognsvann Snow Park\, Sognsvann \, Norwegen
GEO:59.968305;10.72906
X-APPLE-STRUCTURED-LOCATION;VALUE=URI;X-ADDRESS=Sognsvann \, Norwegen;X-APP
 LE-RADIUS=100;X-TITLE=Sognsvann Snow Park:geo:59.968305,10.72906
END:VEVENT
BEGIN:VTIMEZONE
TZID:Europe/Berlin
X-LIC-LOCATION:Europe/Berlin
BEGIN:DAYLIGHT
DTSTART:20260329T030000
TZOFFSETFROM:+0100
TZOFFSETTO:+0200
TZNAME:CEST
END:DAYLIGHT
END:VTIMEZONE
END:VCALENDAR