BEGIN:VCALENDAR
VERSION:2.0
PRODID:-//wp-events-plugin.com//7.2.3.1//EN
TZID:Europe/Berlin
X-WR-TIMEZONE:Europe/Berlin
BEGIN:VEVENT
UID:447@xc-run.de
DTSTART;TZID=Europe/Berlin;VALUE=DATE:20260508
DTEND;TZID=Europe/Berlin;VALUE=DATE:20260510
DTSTAMP:20251024T191756Z
URL:https://xc-run.de/events/eventkalender/north-sea-ultra/
SUMMARY:North Sea Ultra
DESCRIPTION:Sylt ist die größte nordfriesische Insel\, berühmt für die 
 karge und dennoch liebliche Natur und Schauplatz des North Sea Ultra.\nAls
  einer der wenigen Ultras über eine Länge von über 100km wird beim Nort
 h Sea Ultra Deutschlands größte Nordseeinsel fast komplett bei Tageslich
 t umrundet.
ATTACH;FMTTYPE=image/jpeg:https://xc-run.de/wp-content/uploads/2025/07/Kal
 enderOhne.jpg
CATEGORIES:Trailevents
LOCATION:Kampen\, Hauptstraße\, Kampen\, Schleswig-Holstein\, Nordfrieslan
 d\, Deutschland
GEO:54.955884;8.342294
X-APPLE-STRUCTURED-LOCATION;VALUE=URI;X-ADDRESS=Hauptstraße\, Kampen\, Sch
 leswig-Holstein\, Nordfriesland\, Deutschland;X-APPLE-RADIUS=100;X-TITLE=K
 ampen:geo:54.955884,8.342294
END:VEVENT
BEGIN:VTIMEZONE
TZID:Europe/Berlin
X-LIC-LOCATION:Europe/Berlin
BEGIN:DAYLIGHT
DTSTART:20260329T030000
TZOFFSETFROM:+0100
TZOFFSETTO:+0200
TZNAME:CEST
END:DAYLIGHT
END:VTIMEZONE
END:VCALENDAR