BEGIN:VCALENDAR
VERSION:2.0
PRODID:-//wp-events-plugin.com//7.2.3.1//EN
TZID:Europe/Berlin
X-WR-TIMEZONE:Europe/Berlin
BEGIN:VEVENT
UID:566@xc-run.de
DTSTART;TZID=Europe/Berlin;VALUE=DATE:20260522
DTEND;TZID=Europe/Berlin;VALUE=DATE:20260524
DTSTAMP:20260416T171406Z
URL:https://xc-run.de/events/eventkalender/nuts-karhunkierros/
SUMMARY:NUTS Karhunkierros
DESCRIPTION:Ende Mai findet in Kuusamo (Finnland) ein atemberaubender Trail
 run statt! Der Ruf des Karhunkierros ist unwiderstehlich – erleben Sie F
 innlands beliebtesten Wanderweg\, der sich in ein Läuferparadies verwande
 lt hat! Der NUTS Karhunkierros bietet Strecken unterschiedlicher Distanzen
 \, vom Anfängerlauf bis zum Traum eines Ultraläufers
ATTACH;FMTTYPE=image/jpeg:https://xc-run.de/wp-content/uploads/2026/04/NUT
 S-Karhunkierros-2024-PRESS-rami-valonen-82.jpg
CATEGORIES:Trailevents
LOCATION:Ruka\, Ruka\, Finnland
GEO:65.964588;29.188665
X-APPLE-STRUCTURED-LOCATION;VALUE=URI;X-ADDRESS=Ruka\, Finnland;X-APPLE-RAD
 IUS=100;X-TITLE=Ruka:geo:65.964588,29.188665
END:VEVENT
BEGIN:VTIMEZONE
TZID:Europe/Berlin
X-LIC-LOCATION:Europe/Berlin
BEGIN:DAYLIGHT
DTSTART:20260329T030000
TZOFFSETFROM:+0100
TZOFFSETTO:+0200
TZNAME:CEST
END:DAYLIGHT
END:VTIMEZONE
END:VCALENDAR