BEGIN:VCALENDAR
VERSION:2.0
PRODID:-//wp-events-plugin.com//7.2.3.1//EN
TZID:Europe/Berlin
X-WR-TIMEZONE:Europe/Berlin
BEGIN:VEVENT
UID:567@xc-run.de
DTSTART;TZID=Europe/Berlin;VALUE=DATE:20260612
DTEND;TZID=Europe/Berlin;VALUE=DATE:20260614
DTSTAMP:20260317T133556Z
URL:https://xc-run.de/events/eventkalender/nuts-syoete/
SUMMARY:NUTS Syöte
DESCRIPTION:NUTS Syöte im Herzen Finnlands bietet ein vielseitiges\, einst
 eigerfreundliches und unvergessliches Trailrunning-Erlebnis für Läufer a
 ller Altersgruppen und Leistungsstufen!  Entdecken Sie die Trails von Sy
 öte und genießen Sie die traditionellen Landschaften\, die natürliche S
 chönheit\, die Fjellhänge und die Herausforderungen des Trailrunnings 
 – ganz im unverwechselbaren NUTS-Spirit! Auch Kinder und Jugendliche kom
 men auf ihre Kosten! 
ATTACH;FMTTYPE=image/jpeg:https://xc-run.de/wp-content/uploads/2025/07/Kal
 enderOhne.jpg
CATEGORIES:Trailevents
LOCATION:Iso-Syöte\, Iso-Syöte\, Finnland
GEO:65.616417;27.608113
X-APPLE-STRUCTURED-LOCATION;VALUE=URI;X-ADDRESS=Iso-Syöte\, Finnland;X-APP
 LE-RADIUS=100;X-TITLE=Iso-Syöte:geo:65.616417,27.608113
END:VEVENT
BEGIN:VTIMEZONE
TZID:Europe/Berlin
X-LIC-LOCATION:Europe/Berlin
BEGIN:DAYLIGHT
DTSTART:20260329T030000
TZOFFSETFROM:+0100
TZOFFSETTO:+0200
TZNAME:CEST
END:DAYLIGHT
END:VTIMEZONE
END:VCALENDAR