BEGIN:VCALENDAR
VERSION:2.0
PRODID:-//wp-events-plugin.com//7.2.3.1//EN
TZID:Europe/Berlin
X-WR-TIMEZONE:Europe/Berlin
BEGIN:VEVENT
UID:568@xc-run.de
DTSTART;TZID=Europe/Berlin;VALUE=DATE:20260717
DTEND;TZID=Europe/Berlin;VALUE=DATE:20260719
DTSTAMP:20260317T133723Z
URL:https://xc-run.de/events/eventkalender/nuts-yllaes-pallas/
SUMMARY:NUTS Ylläs Pallas
DESCRIPTION:Ein legendäres Trailrunning-Event im atemberaubenden Pallas-Yl
 lästunturi-Nationalpark\, nördlich des Polarkreises im finnischen Lappla
 nd. Gleite durch die schimmernden Landschaften unter der Mitternachtssonne
  von Ylläs nach Pallas! Wähle deinen Weg – vom schnellen Sprint bis zu
 r Ultra-Herausforderung – und lass dich von den bezaubernden Fjälls auf
  einen legendären Lauf entführen\, durchdrungen von Geschichten aus län
 gst vergangenen Zeiten und dem Flüstern zukünftiger Abenteuer.
ATTACH;FMTTYPE=image/jpeg:https://xc-run.de/wp-content/uploads/2025/07/Kal
 enderOhne.jpg
CATEGORIES:Trailevents
LOCATION:Äkäslompolo\, Äkäslompolo\, Finnland
GEO:67.603904;24.156732
X-APPLE-STRUCTURED-LOCATION;VALUE=URI;X-ADDRESS=Äkäslompolo\, Finnland;X-
 APPLE-RADIUS=100;X-TITLE=Äkäslompolo:geo:67.603904,24.156732
END:VEVENT
BEGIN:VTIMEZONE
TZID:Europe/Berlin
X-LIC-LOCATION:Europe/Berlin
BEGIN:DAYLIGHT
DTSTART:20260329T030000
TZOFFSETFROM:+0100
TZOFFSETTO:+0200
TZNAME:CEST
END:DAYLIGHT
END:VTIMEZONE
END:VCALENDAR