BEGIN:VCALENDAR
VERSION:2.0
PRODID:-//wp-events-plugin.com//7.2.3.1//EN
TZID:Europe/Berlin
X-WR-TIMEZONE:Europe/Berlin
BEGIN:VEVENT
UID:589@xc-run.de
DTSTART;TZID=Europe/Berlin;VALUE=DATE:20260905
DTEND;TZID=Europe/Berlin;VALUE=DATE:20260906
DTSTAMP:20260417T140527Z
URL:https://xc-run.de/events/eventkalender/nuuksio-classic-trail/
SUMMARY:Nuuksio Classic Trail
DESCRIPTION:Hier erleben Trailrunner einen unvergesslichen Tag auf den wund
 erschönen Trails des Nuuksio-Nationalparks im Herzen Finnlands. Die Atmos
 phäre\, der meist neblige Morgen und die Freude am Trailrunning macht die
 sen Lauf zu einem unvergesslichen Erlebnis.
ATTACH;FMTTYPE=image/jpeg:https://xc-run.de/wp-content/uploads/2025/07/Kal
 enderOhne.jpg
CATEGORIES:Trailevents
LOCATION:Espoo\, Espoo\, Finnland
GEO:60.205491;24.6559
X-APPLE-STRUCTURED-LOCATION;VALUE=URI;X-ADDRESS=Espoo\, Finnland;X-APPLE-RA
 DIUS=100;X-TITLE=Espoo:geo:60.205491,24.6559
END:VEVENT
BEGIN:VTIMEZONE
TZID:Europe/Berlin
X-LIC-LOCATION:Europe/Berlin
BEGIN:DAYLIGHT
DTSTART:20260329T030000
TZOFFSETFROM:+0100
TZOFFSETTO:+0200
TZNAME:CEST
END:DAYLIGHT
END:VTIMEZONE
END:VCALENDAR