BEGIN:VCALENDAR
VERSION:2.0
PRODID:-//wp-events-plugin.com//7.2.3.1//EN
TZID:Europe/Berlin
X-WR-TIMEZONE:Europe/Berlin
BEGIN:VEVENT
UID:486@xc-run.de
DTSTART;TZID=Europe/Berlin;VALUE=DATE:20261001
DTEND;TZID=Europe/Berlin;VALUE=DATE:20261005
DTSTAMP:20251217T204650Z
URL:https://xc-run.de/events/eventkalender/oberaudorf-trail-festival/
SUMMARY:Oberaudorf Trail Festival
DESCRIPTION:Pünktlich zum Abschluss eines langen Sommers bietet das Oberau
 dorf Trail Festival (OTF) die perfekte Möglichkeit\, um die in den vorher
 igen Monaten aufgebaute Fitness noch einmal so richtig auszuspielen. Auf u
 nterschiedlichen Strecken wird man mit flowigen\, technischen und abwechsl
 ungsreichen Trails verwöhnt und an die individuellen Grenzen gebracht. Ei
 nes bleibt jedoch bei jeder Strecke gleich: Das beeindruckende 360-Grad-Pa
 norama und die traumhafte Natur im traumhaften Oberaudorf inklusive Wilder
  Kaiser\, Sudelfeld und Chiemgauer Alpen!
ATTACH;FMTTYPE=image/jpeg:https://xc-run.de/wp-content/uploads/2025/07/Kal
 enderOhne.jpg
CATEGORIES:Trailevents
LOCATION:Kurpark Oberaudorf\, Bad-Trißl-Straße 4\, Oberaudorf\, Bayern\, 
 83080\, Oberland\, Deutschland
GEO:47.6495;12.171138
X-APPLE-STRUCTURED-LOCATION;VALUE=URI;X-ADDRESS=Bad-Trißl-Straße 4\, Ober
 audorf\, Bayern\, 83080\, Oberland\, Deutschland;X-APPLE-RADIUS=100;X-TITL
 E=Kurpark Oberaudorf:geo:47.6495,12.171138
END:VEVENT
BEGIN:VTIMEZONE
TZID:Europe/Berlin
X-LIC-LOCATION:Europe/Berlin
BEGIN:DAYLIGHT
DTSTART:20260329T030000
TZOFFSETFROM:+0100
TZOFFSETTO:+0200
TZNAME:CEST
END:DAYLIGHT
END:VTIMEZONE
END:VCALENDAR