BEGIN:VCALENDAR
VERSION:2.0
PRODID:-//wp-events-plugin.com//7.2.3.1//EN
TZID:Europe/Berlin
X-WR-TIMEZONE:Europe/Berlin
BEGIN:VEVENT
UID:385@xc-run.de
DTSTART;TZID=Europe/Berlin;VALUE=DATE:20260605
DTEND;TZID=Europe/Berlin;VALUE=DATE:20260607
DTSTAMP:20251027T200544Z
URL:https://xc-run.de/events/eventkalender/oberlausitztrail/
SUMMARY:Oberlausitztrail
DESCRIPTION:Weitläufige Landschaften\, fließend ineinander übergehende B
 ergketten\, naturbelassene Waldwege und idyllische Dörfer sind das Wahrze
 ichen der Oberlausitz. Diese liebliche Gegend ist die Heimat des Oberlausi
 tztrail und mit dem 587 m hohen Valtenberg ist auch die höchste Erhebung 
 der Lausitz in die Streckengestaltung eingebunden.
ATTACH;FMTTYPE=image/jpeg:https://xc-run.de/wp-content/uploads/2025/07/Kal
 enderOhne.jpg
CATEGORIES:Trailevents
LOCATION:Oberlausitztrail\, Günthersdorfer Straße 1a\, Gaussig\, 02633\, 
 Oberlausitz\, Deutschland
GEO:51.135994;14.315928
X-APPLE-STRUCTURED-LOCATION;VALUE=URI;X-ADDRESS=Günthersdorfer Straße 1a\
 , Gaussig\, 02633\, Oberlausitz\, Deutschland;X-APPLE-RADIUS=100;X-TITLE=O
 berlausitztrail:geo:51.135994,14.315928
END:VEVENT
BEGIN:VTIMEZONE
TZID:Europe/Berlin
X-LIC-LOCATION:Europe/Berlin
BEGIN:DAYLIGHT
DTSTART:20260329T030000
TZOFFSETFROM:+0100
TZOFFSETTO:+0200
TZNAME:CEST
END:DAYLIGHT
END:VTIMEZONE
END:VCALENDAR