BEGIN:VCALENDAR
VERSION:2.0
PRODID:-//wp-events-plugin.com//7.2.3.1//EN
TZID:Europe/Berlin
X-WR-TIMEZONE:Europe/Berlin
BEGIN:VEVENT
UID:497@xc-run.de
DTSTART;TZID=Europe/Berlin;VALUE=DATE:20260710
DTEND;TZID=Europe/Berlin;VALUE=DATE:20260713
DTSTAMP:20251030T092058Z
URL:https://xc-run.de/events/eventkalender/obertauern-trailrun-summit-ots/
SUMMARY:Obertauern Trailrun Summit (OTS)
DESCRIPTION:Der Obertauern Trailrun Summit (OTS) geht 2026 in die dritte Ru
 nde. Gemäß dem Motto "reach your peak" geht es für die Läuferinnen und
  Läufer über abwechslungsreiche\, flowige und teilweise technisch anspru
 chsvolle Trails in der wunderschönen hochalpinen Natur rund um Obertauern
 . Dieses Wochenende ist vollgepackt mit spannenden und herausfordernden We
 ttbewerben.
ATTACH;FMTTYPE=image/jpeg:https://xc-run.de/wp-content/uploads/2025/07/Kal
 enderOhne.jpg
CATEGORIES:Trailevents
LOCATION:Obertauern\, Römerstraße\, Obertauern\, Salzburg\, Österreich
GEO:47.25057;13.549921
X-APPLE-STRUCTURED-LOCATION;VALUE=URI;X-ADDRESS=Römerstraße\, Obertauern\
 , Salzburg\, Österreich;X-APPLE-RADIUS=100;X-TITLE=Obertauern:geo:47.2505
 7,13.549921
END:VEVENT
BEGIN:VTIMEZONE
TZID:Europe/Berlin
X-LIC-LOCATION:Europe/Berlin
BEGIN:DAYLIGHT
DTSTART:20260329T030000
TZOFFSETFROM:+0100
TZOFFSETTO:+0200
TZNAME:CEST
END:DAYLIGHT
END:VTIMEZONE
END:VCALENDAR