BEGIN:VCALENDAR
VERSION:2.0
PRODID:-//wp-events-plugin.com//7.2.3.1//EN
TZID:Europe/Berlin
X-WR-TIMEZONE:Europe/Berlin
BEGIN:VEVENT
UID:579@xc-run.de
DTSTART;TZID=Europe/Berlin;VALUE=DATE:20260418
DTEND;TZID=Europe/Berlin;VALUE=DATE:20260420
DTSTAMP:20260416T103947Z
URL:https://xc-run.de/events/eventkalender/oesterlen-spring-trail/
SUMMARY:Österlen Spring Trail
DESCRIPTION:Saisonstart in Südschweden! Trails der Extraklasse\, kein Schn
 ee\, eine familiäre\, liebevolle Orga und dazu das Abenteuer Schweden gle
 ich zu Beginn des Trail-Jahres -  Herz was willst du mehr? 
ATTACH;FMTTYPE=image/jpeg:https://xc-run.de/wp-content/uploads/2025/07/Kal
 enderOhne.jpg
CATEGORIES:Trailevents
LOCATION:Österlen\, andrarum\, Schweden
GEO:55.706747;13.959698
X-APPLE-STRUCTURED-LOCATION;VALUE=URI;X-ADDRESS=andrarum\, Schweden;X-APPLE
 -RADIUS=100;X-TITLE=Österlen:geo:55.706747,13.959698
END:VEVENT
BEGIN:VTIMEZONE
TZID:Europe/Berlin
X-LIC-LOCATION:Europe/Berlin
BEGIN:DAYLIGHT
DTSTART:20260329T030000
TZOFFSETFROM:+0100
TZOFFSETTO:+0200
TZNAME:CEST
END:DAYLIGHT
END:VTIMEZONE
END:VCALENDAR