BEGIN:VCALENDAR
VERSION:2.0
PRODID:-//wp-events-plugin.com//7.2.3.1//EN
TZID:Europe/Berlin
X-WR-TIMEZONE:Europe/Berlin
BEGIN:VEVENT
UID:485@xc-run.de
DTSTART;TZID=Europe/Berlin;VALUE=DATE:20260612
DTEND;TZID=Europe/Berlin;VALUE=DATE:20260615
DTSTAMP:20251203T193127Z
URL:https://xc-run.de/events/eventkalender/oetscher-trail/
SUMMARY:Ötscher Trail
DESCRIPTION:Die Ötscher Trails durch den Naturpark Ötscher-Tormäuer sind
  seit 1997 einer der ältesten Trailrennen Österreichs und werden seit 20
 24 nebst den Einzelbewerben: Vertical Race\, Easy Trail\, Speed Trail\, Ma
 rathon Trail und dem Skyrace mit der HERO und KING/QUEEN Wertung als härt
 estes 3 Tage Event Österreichs durchgeführt.​\nDie Strecken verlaufen 
 mit dem am Freitag stattfindendem Vertical Race über 5\,1km und 1140+ auf
  den Ötscher Gipfel\, dem am Samstag startenden Marathon Trail durch die 
 Ötschergräben (Grand Canyon Österreichs) und überwinden am Sonntag mit
  leichter Felskletterei beim Skyrace den Rauen Kamm sowie den Ötscher Gip
 fel.\nBeim Speed Trail am Samstag findet der Gipfelsieg am Kleinen Ötsche
 r statt\, wogegen der Easy Trail für Traileinsteiger über wunderschöne 
 Single Trails hindurch bis ins Ziel nach Lackenhof führt.​\nDie Ötsche
 r Trails zählen mit dem Skyrace (Skyrunner Austria Series) und dem Vertic
 al Race (Vertikal Austria Series) zu den Top Events Österreichs. Nebst de
 r Teilnahme am Österreiochischen Volkslaufcup werden auch die Österreich
 ischen Meisterschaften im Rahmen der Ötscher Trails durchgeführt.
ATTACH;FMTTYPE=image/jpeg:https://xc-run.de/wp-content/uploads/2024/01/Oet
 scher-Trail.jpeg
CATEGORIES:Berglauf,Skyrunning,Trailevents
LOCATION:Lackenhof\, Weitental\, Lackenhof\, Österreich
GEO:47.869142;15.157347
X-APPLE-STRUCTURED-LOCATION;VALUE=URI;X-ADDRESS=Weitental\, Lackenhof\, Ös
 terreich;X-APPLE-RADIUS=100;X-TITLE=Lackenhof:geo:47.869142,15.157347
END:VEVENT
BEGIN:VTIMEZONE
TZID:Europe/Berlin
X-LIC-LOCATION:Europe/Berlin
BEGIN:DAYLIGHT
DTSTART:20260329T030000
TZOFFSETFROM:+0100
TZOFFSETTO:+0200
TZNAME:CEST
END:DAYLIGHT
END:VTIMEZONE
END:VCALENDAR