BEGIN:VCALENDAR
VERSION:2.0
PRODID:-//wp-events-plugin.com//7.2.3.1//EN
TZID:Europe/Berlin
X-WR-TIMEZONE:Europe/Berlin
BEGIN:VEVENT
UID:358@xc-run.de
DTSTART;TZID=Europe/Berlin;VALUE=DATE:20260410
DTEND;TZID=Europe/Berlin;VALUE=DATE:20260412
DTSTAMP:20251021T193133Z
URL:https://xc-run.de/events/eventkalender/oetzi-trailrun-naturns-2/
SUMMARY:Ötzi Trailrun Naturns
DESCRIPTION:Am 11. April 2026 trifft sich zum 6. Mal die Trailrun-Elite in 
 Naturns um bei vier Bewerben den Sonnenberg zu rocken! Dort\, wo Alpines a
 uf Mediterranes trifft\, kann sich Jedermann mit Topstars der Szene messen
 .
ATTACH;FMTTYPE=image/jpeg:https://xc-run.de/wp-content/uploads/2025/07/Kal
 enderOhne.jpg
CATEGORIES:Trailevents
LOCATION:Naturns\, Rathausplatz 1\, Naturns\, Südtirol /Italien \, 39025 \
 , Bozen\, Italien
X-APPLE-STRUCTURED-LOCATION;VALUE=URI;X-ADDRESS=Rathausplatz 1\, Naturns\, 
 Südtirol /Italien \, 39025 \, Bozen\, Italien;X-APPLE-RADIUS=100;X-TITLE=
 Naturns:geo:0,0
END:VEVENT
BEGIN:VTIMEZONE
TZID:Europe/Berlin
X-LIC-LOCATION:Europe/Berlin
BEGIN:DAYLIGHT
DTSTART:20260329T030000
TZOFFSETFROM:+0100
TZOFFSETTO:+0200
TZNAME:CEST
END:DAYLIGHT
END:VTIMEZONE
END:VCALENDAR