BEGIN:VCALENDAR
VERSION:2.0
PRODID:-//wp-events-plugin.com//7.2.3.1//EN
TZID:Europe/Berlin
X-WR-TIMEZONE:Europe/Berlin
BEGIN:VEVENT
UID:561@xc-run.de
DTSTART;TZID=Europe/Berlin;VALUE=DATE:20260409
DTEND;TZID=Europe/Berlin;VALUE=DATE:20260412
DTSTAMP:20260317T180354Z
URL:https://xc-run.de/events/eventkalender/oetzi-trailrun-naturns/
SUMMARY:Ötzi Trailrun Naturns
DESCRIPTION:Der  Ötzi Trailrun Naturns feiert nicht nur die sportliche Her
 ausforderung sondern auch die Schönheit der Südtiroler Natur! Bereits zu
 m 6. Mal begrüsst Naturns vom 09.04. bis 11.04 Trailrunner aus aller Welt
  und die Läuferinnen und Läufer können zwischen mehreren Strecken wähl
 en\, die durch die beeindurckende Berglandschaft Südtirols führen. 
ATTACH;FMTTYPE=image/jpeg:https://xc-run.de/wp-content/uploads/2026/03/Alp
 enplus_Oetzi_Trailrun_Naturns_2_Credits_Gabriel-Hoellrigl.jpg
CATEGORIES:Trailevents
LOCATION:Tourismusbüro Naturns\, Rathausstraße 1\, Naturns\, Italien
GEO:46.649953;11.004187
X-APPLE-STRUCTURED-LOCATION;VALUE=URI;X-ADDRESS=Rathausstraße 1\, Naturns\
 , Italien;X-APPLE-RADIUS=100;X-TITLE=Tourismusbüro Naturns:geo:46.649953,
 11.004187
END:VEVENT
BEGIN:VTIMEZONE
TZID:Europe/Berlin
X-LIC-LOCATION:Europe/Berlin
BEGIN:DAYLIGHT
DTSTART:20260329T030000
TZOFFSETFROM:+0100
TZOFFSETTO:+0200
TZNAME:CEST
END:DAYLIGHT
END:VTIMEZONE
END:VCALENDAR