BEGIN:VCALENDAR
VERSION:2.0
PRODID:-//wp-events-plugin.com//7.2.3.1//EN
TZID:Europe/Berlin
X-WR-TIMEZONE:Europe/Berlin
BEGIN:VEVENT
UID:580@xc-run.de
DTSTART;TZID=Europe/Berlin;VALUE=DATE:20260530
DTEND;TZID=Europe/Berlin;VALUE=DATE:20260531
DTSTAMP:20260417T124135Z
URL:https://xc-run.de/events/eventkalender/oslo-ecotrail/
SUMMARY:Oslo Ecotrail
DESCRIPTION:"Bist du bereit für eine wundervolle Herausforderung?" - Trail
 running im Herzen Oslos - Norwegens Hauptstadt! Von technischen bis hin zu
  urbanen Trails\, von kurzen bis hin zu langen Distanzen - hier findet jed
 er seine Herausforderung.  Und das Ganze in einer der schönsten und ents
 panntesten Hauptstädte Europas! 
ATTACH;FMTTYPE=image/jpeg:https://xc-run.de/wp-content/uploads/2025/07/Kal
 enderOhne.jpg
CATEGORIES:Trailevents
LOCATION:Oslo\, Oslo\, Norwegen
GEO:59.912175;10.73127
X-APPLE-STRUCTURED-LOCATION;VALUE=URI;X-ADDRESS=Oslo\, Norwegen;X-APPLE-RAD
 IUS=100;X-TITLE=Oslo:geo:59.912175,10.73127
END:VEVENT
BEGIN:VTIMEZONE
TZID:Europe/Berlin
X-LIC-LOCATION:Europe/Berlin
BEGIN:DAYLIGHT
DTSTART:20260329T030000
TZOFFSETFROM:+0100
TZOFFSETTO:+0200
TZNAME:CEST
END:DAYLIGHT
END:VTIMEZONE
END:VCALENDAR