BEGIN:VCALENDAR
VERSION:2.0
PRODID:-//wp-events-plugin.com//7.2.3.1//EN
TZID:Europe/Berlin
X-WR-TIMEZONE:Europe/Berlin
BEGIN:VEVENT
UID:360@xc-run.de
DTSTART;TZID=Europe/Berlin;VALUE=DATE:20260710
DTEND;TZID=Europe/Berlin;VALUE=DATE:20260712
DTSTAMP:20250826T151216Z
URL:https://xc-run.de/events/eventkalender/paznaun-ischgl-ultra-trail/
SUMMARY:PIUT: Paznaun Ischgl Ultra Trail
DESCRIPTION:Beim PIUT – Paznaun Ischgl Ultra Trail erwarten dich spektaku
 läre Bergpanoramen\, herausfordernde Höhenmeter und pure Trailrunning-At
 mosphäre. Von der Königsdistanz mit rund 100 Kilometern bis hin zu Einst
 eiger- und Charity-Läufen ist für jede Läuferin und jeden Läufer das r
 ichtige Abenteuer dabei. Startorte sind See\, Kappl\, Galtür und Ischgl\,
  das Ziel liegt stets im Herzen von Ischgl.
ATTACH;FMTTYPE=image/jpeg:https://xc-run.de/wp-content/uploads/2022/11/PIU
 T_2024-2.jpeg
CATEGORIES:Trailevents
LOCATION:Ischgl\, Silvrettaplatz\, Ischgl\, Österreich
GEO:47.01004;10.288259
X-APPLE-STRUCTURED-LOCATION;VALUE=URI;X-ADDRESS=Silvrettaplatz\, Ischgl\, 
 Österreich;X-APPLE-RADIUS=100;X-TITLE=Ischgl:geo:47.01004,10.288259
END:VEVENT
BEGIN:VTIMEZONE
TZID:Europe/Berlin
X-LIC-LOCATION:Europe/Berlin
BEGIN:DAYLIGHT
DTSTART:20260329T030000
TZOFFSETFROM:+0100
TZOFFSETTO:+0200
TZNAME:CEST
END:DAYLIGHT
END:VTIMEZONE
END:VCALENDAR