BEGIN:VCALENDAR
VERSION:2.0
PRODID:-//wp-events-plugin.com//7.2.3.1//EN
TZID:Europe/Berlin
X-WR-TIMEZONE:Europe/Berlin
BEGIN:VEVENT
UID:125@xc-run.de
DTSTART;TZID=Europe/Berlin;VALUE=DATE:20260502
DTEND;TZID=Europe/Berlin;VALUE=DATE:20260504
DTSTAMP:20251115T202611Z
URL:https://xc-run.de/events/eventkalender/pfalztrail/
SUMMARY:Pfalz Trail im Leiningerland
DESCRIPTION:Lichte Wälder\, dunkle Täler oder enge Schluchten - aber auch
  traumhafte Aussichtspunkte und eine Burgruine. Eine anspruchsvolle Streck
 e zwischen Kiefern und Buchen\, in Mischwäldern oder durch Weinberge - de
 r PfalzTrail ist ein absolutes Trailerlebnis.
ATTACH;FMTTYPE=image/jpeg:https://xc-run.de/wp-content/uploads/2025/07/Kal
 enderOhne.jpg
CATEGORIES:Trailevents
LOCATION:Carlsberg-Hertlingshausen\, Bergstraße 38\, Carlsberg-Hertlingsha
 usen\, Rheinland-Pfalz\, 67316\, Leiningerland\, Deutschland
GEO:49.498333;8.025287
X-APPLE-STRUCTURED-LOCATION;VALUE=URI;X-ADDRESS=Bergstraße 38\, Carlsberg-
 Hertlingshausen\, Rheinland-Pfalz\, 67316\, Leiningerland\, Deutschland;X-
 APPLE-RADIUS=100;X-TITLE=Carlsberg-Hertlingshausen:geo:49.498333,8.025287
END:VEVENT
BEGIN:VTIMEZONE
TZID:Europe/Berlin
X-LIC-LOCATION:Europe/Berlin
BEGIN:DAYLIGHT
DTSTART:20260329T030000
TZOFFSETFROM:+0100
TZOFFSETTO:+0200
TZNAME:CEST
END:DAYLIGHT
END:VTIMEZONE
END:VCALENDAR