BEGIN:VCALENDAR
VERSION:2.0
PRODID:-//wp-events-plugin.com//7.2.3.1//EN
TZID:Europe/Berlin
X-WR-TIMEZONE:Europe/Berlin
BEGIN:VEVENT
UID:475@xc-run.de
DTSTART;TZID=Europe/Berlin;VALUE=DATE:20260607
DTEND;TZID=Europe/Berlin;VALUE=DATE:20260608
DTSTAMP:20251028T133658Z
URL:https://xc-run.de/events/eventkalender/pfreimdtaltrail/
SUMMARY:Pfreimdtaltrail
DESCRIPTION:Der Pfreimdtaltrail ist ein 21 Kilometer langer Traillauf\, der
  sich mit über 450 Höhenmetern durch das beschauliche Tal der Pfreimd sc
 hlängelt.  Für Anfänger ist die Strecke technisch nicht zu schwierig\,
  durch mehrere knackige Anstiege aber auch für ambitionierte Läuferinnen
  und Läufer eine echte Herausforderung. Die Veranstalter freuen sich auf 
 ein bunt gemischtes Starterfeld\, das vom Laufanfänger bis zum erfahrenen
  Trailläufer reicht.
ATTACH;FMTTYPE=image/jpeg:https://xc-run.de/wp-content/uploads/2025/07/Kal
 enderOhne.jpg
CATEGORIES:Trailevents
LOCATION:Sportheim des TSV Trausnitz\, Staatstraße 2157 Abzweig Seestraße
 \, Trausnitz\, Bayern\, 92555\, Deutschland
GEO:49.51826;12.271459
X-APPLE-STRUCTURED-LOCATION;VALUE=URI;X-ADDRESS=Staatstraße 2157 Abzweig S
 eestraße\, Trausnitz\, Bayern\, 92555\, Deutschland;X-APPLE-RADIUS=100;X-
 TITLE=Sportheim des TSV Trausnitz:geo:49.51826,12.271459
END:VEVENT
BEGIN:VTIMEZONE
TZID:Europe/Berlin
X-LIC-LOCATION:Europe/Berlin
BEGIN:DAYLIGHT
DTSTART:20260329T030000
TZOFFSETFROM:+0100
TZOFFSETTO:+0200
TZNAME:CEST
END:DAYLIGHT
END:VTIMEZONE
END:VCALENDAR