BEGIN:VCALENDAR
VERSION:2.0
PRODID:-//wp-events-plugin.com//7.2.3.1//EN
TZID:Europe/Berlin
X-WR-TIMEZONE:Europe/Berlin
BEGIN:VEVENT
UID:351@xc-run.de
DTSTART;TZID=Europe/Berlin;VALUE=DATE:20260731
DTEND;TZID=Europe/Berlin;VALUE=DATE:20260803
DTSTAMP:20251105T202036Z
URL:https://xc-run.de/events/eventkalender/pitz-alpine-glacier-trail-2-cop
 y/
SUMMARY:Pitz Alpine Glacier Trail (PAGT)
DESCRIPTION:Der Pitz Alpine Glacier Trail ist nicht mehr aus dem Rennkalend
 er wegzudenken und hat sich zurecht seinen Kultstatus verdient. Auf dem Da
 ch Tirols geht es rund um Mandarfen über flowige Singletrails\, hoch tech
 nische Passagen und knackige Downhills. Gekrönt wird dieser Ausflug ins H
 ochgebirge mit unvergesslichen Gletscherquerungen. Dabei stehen sieben unt
 erschiedliche Strecken für die Läufer zu Verfügung.
ATTACH;FMTTYPE=image/jpeg:https://xc-run.de/wp-content/uploads/2025/07/Kal
 enderOhne.jpg
CATEGORIES:Golden Trail Series,Trailevents
LOCATION:St.Leonhard im Pitztal\, Mandarfen 62\, St. Leonhard im Pitztal\, 
 Tirol\, 6481\, Pitztal\, Österreich
GEO:46.968552;10.871126
X-APPLE-STRUCTURED-LOCATION;VALUE=URI;X-ADDRESS=Mandarfen 62\, St. Leonhard
  im Pitztal\, Tirol\, 6481\, Pitztal\, Österreich;X-APPLE-RADIUS=100;X-TI
 TLE=St.Leonhard im Pitztal:geo:46.968552,10.871126
END:VEVENT
BEGIN:VTIMEZONE
TZID:Europe/Berlin
X-LIC-LOCATION:Europe/Berlin
BEGIN:DAYLIGHT
DTSTART:20260329T030000
TZOFFSETFROM:+0100
TZOFFSETTO:+0200
TZNAME:CEST
END:DAYLIGHT
END:VTIMEZONE
END:VCALENDAR