BEGIN:VCALENDAR
VERSION:2.0
PRODID:-//wp-events-plugin.com//7.2.3.1//EN
TZID:Europe/Berlin
X-WR-TIMEZONE:Europe/Berlin
BEGIN:VEVENT
UID:398@xc-run.de
DTSTART;TZID=Europe/Berlin;VALUE=DATE:20260925
DTEND;TZID=Europe/Berlin;VALUE=DATE:20260927
DTSTAMP:20251225T161904Z
URL:https://xc-run.de/events/eventkalender/poehl-trail/
SUMMARY:Pöhl Trail
DESCRIPTION:Die vogtländische Schweiz bildet den würdigen Rahmen für den
  Pöhl Trail. Die Trails führen in hügeligem Gelände auf naturnahen Wan
 derwegen\, teils anspruchsvoll und technisch\, durchs wildromantische Els
 ter- und Triebtal zwischen dem Stadtrand von Plauen und Ruppertsgrün mit
  Highlights wie der Elstertalbrücke.
ATTACH;FMTTYPE=image/jpeg:https://xc-run.de/wp-content/uploads/2025/07/Kal
 enderOhne.jpg
CATEGORIES:Trailevents
LOCATION:Pöhl Trail\, Möschwitzer Straße 44\, Pöhl\, Sachsen\, 08543\, 
 Vogtland\, Deutschland
GEO:50.510085;12.159871
X-APPLE-STRUCTURED-LOCATION;VALUE=URI;X-ADDRESS=Möschwitzer Straße 44\, P
 öhl\, Sachsen\, 08543\, Vogtland\, Deutschland;X-APPLE-RADIUS=100;X-TITLE
 =Pöhl Trail:geo:50.510085,12.159871
END:VEVENT
BEGIN:VTIMEZONE
TZID:Europe/Berlin
X-LIC-LOCATION:Europe/Berlin
BEGIN:DAYLIGHT
DTSTART:20260329T030000
TZOFFSETFROM:+0100
TZOFFSETTO:+0200
TZNAME:CEST
END:DAYLIGHT
END:VTIMEZONE
END:VCALENDAR