BEGIN:VCALENDAR
VERSION:2.0
PRODID:-//wp-events-plugin.com//7.2.3.1//EN
TZID:Europe/Berlin
X-WR-TIMEZONE:Europe/Berlin
BEGIN:VEVENT
UID:562@xc-run.de
DTSTART;TZID=Europe/Berlin;VALUE=DATE:20260621
DTEND;TZID=Europe/Berlin;VALUE=DATE:20260622
DTSTAMP:20260317T180626Z
URL:https://xc-run.de/events/eventkalender/ratschings-mountain-trail/
SUMMARY:Ratschings Mountain Trail
DESCRIPTION:Das Motto der Ratschings Mountain Trails verspricht großartige
 s : "a run through magical nature"! Und die Südtiroler Bergwelt ist bekan
 nt dafür das sie liefert: enge\, gewundene Pfade\, beeindruckende Ausblic
 ke\, ein unverwechselbares Erlebnis!
ATTACH;FMTTYPE=image/jpeg:https://xc-run.de/wp-content/uploads/2026/03/Rat
 schings_Mountain_Trails_2025_1_Credits_RMT.jpg
CATEGORIES:Trailevents
LOCATION:Ratsching\, Bichl \, Italien
GEO:46.864497;11.308236
X-APPLE-STRUCTURED-LOCATION;VALUE=URI;X-ADDRESS=Bichl \, Italien;X-APPLE-RA
 DIUS=100;X-TITLE=Ratsching:geo:46.864497,11.308236
END:VEVENT
BEGIN:VTIMEZONE
TZID:Europe/Berlin
X-LIC-LOCATION:Europe/Berlin
BEGIN:DAYLIGHT
DTSTART:20260329T030000
TZOFFSETFROM:+0100
TZOFFSETTO:+0200
TZNAME:CEST
END:DAYLIGHT
END:VTIMEZONE
END:VCALENDAR