BEGIN:VCALENDAR
VERSION:2.0
PRODID:-//wp-events-plugin.com//7.2.3.1//EN
TZID:Europe/Berlin
X-WR-TIMEZONE:Europe/Berlin
BEGIN:VEVENT
UID:271@xc-run.de
DTSTART;TZID=Europe/Berlin;VALUE=DATE:20261003
DTEND;TZID=Europe/Berlin;VALUE=DATE:20261005
DTSTAMP:20251201T202721Z
URL:https://xc-run.de/events/eventkalender/rennsteig-herbstlauf/
SUMMARY:Rennsteig Herbstlauf
DESCRIPTION:Der traditionelle Rennsteig-Herbstlauf über 20 Kilometer ist e
 in Crosslauf auf Teilen der ursprünglichen Rennsteiglauf-Marathonstrecke.
  Er bietet die Gelegenheit\, bereits im Herbst ein Teilstück der original
 en Marathonstrecke kennen zu lernen und sich somit zielgerichtet auf das F
 olgejahr vorzubereiten.  \n\nFür Läufer\, die gerne etwas mehr laufen m
 öchten\, wird der seit 2020 neu ins Programm aufgenommenen Trail über 30
 km empfohlen. Hier können die Starter erleben\, dass es links und rechts 
 vom Kammweg richtig tolle Eindrücke in Verbindung mit Pfaden und reichlic
 h Höhenmetern zu entdecken gibt.\n\nErgänzend zur klassischen Strecke ü
 ber 20km und dem 30 km- Trail wird auch eine Alternative über 10 Kilomete
 r speziell für Laufeinsteiger angeboten.
ATTACH;FMTTYPE=image/jpeg:https://xc-run.de/wp-content/uploads/2025/07/Kal
 enderOhne.jpg
CATEGORIES:Trailevents
LOCATION:Suhl OT Schmiedefeld\, Ruppachstr. 1a\, Suhl OT Schmiedefeld\, Th
 üringen\, 98528\, Rennsteig\, Deutschland
GEO:50.60245;10.816818
X-APPLE-STRUCTURED-LOCATION;VALUE=URI;X-ADDRESS=Ruppachstr. 1a\, Suhl OT Sc
 hmiedefeld\, Thüringen\, 98528\, Rennsteig\, Deutschland;X-APPLE-RADIUS=1
 00;X-TITLE=Suhl OT Schmiedefeld:geo:50.60245,10.816818
END:VEVENT
BEGIN:VTIMEZONE
TZID:Europe/Berlin
X-LIC-LOCATION:Europe/Berlin
BEGIN:DAYLIGHT
DTSTART:20260329T030000
TZOFFSETFROM:+0100
TZOFFSETTO:+0200
TZNAME:CEST
END:DAYLIGHT
END:VTIMEZONE
END:VCALENDAR