BEGIN:VCALENDAR
VERSION:2.0
PRODID:-//wp-events-plugin.com//7.2.3.1//EN
TZID:Europe/Berlin
X-WR-TIMEZONE:Europe/Berlin
BEGIN:VEVENT
UID:326@xc-run.de
DTSTART;TZID=Europe/Berlin;VALUE=DATE:20260508
DTEND;TZID=Europe/Berlin;VALUE=DATE:20260510
DTSTAMP:20250822T200056Z
URL:https://xc-run.de/events/eventkalender/rennsteiglauf-trail-kultveranst
 altung-schmiedefeld-copy/
SUMMARY:GutsMuths- Rennsteiglauf
DESCRIPTION:Der Rennsteiglauf ist der größte Landschaftslauf Europas\, de
 r jährlich inmitten der wunderbaren mittelgebirgischen Landschaft des Th
 üringer Waldes ausgetragen wird. Dabei starten bis zu 15.000 Läufer zu d
 en Klängen des Schneewalzer und versuchen ins "schönste Ziel der Welt" n
 ach Schmiedefeld zu kommen. Die Wartburg in Eisenach\, die berühmten Thü
 ringer Klöße und die gleichnamige Bratwurst\, bestens präparierte Laufs
 trecken entlang Deutschlands berühmtesten Weitwanderweges\, dem Rennsteig
 \, waldesgrün gefärbte Berge und Täler wie das UNESCO-Biosphärenreserv
 at Thüringer Wald\, sagenhafte\, märchenreiche und geheimnisvolle Orte\,
  gute Anfahrts- und Übernachtungsmöglichkeiten in der Mitte Deutschlands
  und eine ganz besondere Läuferversorgung mit Köstritzer Schwarzbier und
  Haferschleim sind die Merkmale dieser mehrfach prämierten Veranstaltung.
ATTACH;FMTTYPE=image/jpeg:https://xc-run.de/wp-content/uploads/2025/07/Kal
 enderOhne.jpg
CATEGORIES:Trailevents
LOCATION:Schmiedefeld\, Schmiedefeld\, Schmiedefeld\, Deutschland
GEO:50.6082051;10.812341100000026
X-APPLE-STRUCTURED-LOCATION;VALUE=URI;X-ADDRESS=Schmiedefeld\, Schmiedefeld
 \, Deutschland;X-APPLE-RADIUS=100;X-TITLE=Schmiedefeld:geo:50.6082051,10.8
 12341100000026
END:VEVENT
BEGIN:VTIMEZONE
TZID:Europe/Berlin
X-LIC-LOCATION:Europe/Berlin
BEGIN:DAYLIGHT
DTSTART:20260329T030000
TZOFFSETFROM:+0100
TZOFFSETTO:+0200
TZNAME:CEST
END:DAYLIGHT
END:VTIMEZONE
END:VCALENDAR