BEGIN:VCALENDAR
VERSION:2.0
PRODID:-//wp-events-plugin.com//7.2.3.1//EN
TZID:Europe/Berlin
X-WR-TIMEZONE:Europe/Berlin
BEGIN:VEVENT
UID:463@xc-run.de
DTSTART;TZID=Europe/Berlin;VALUE=DATE:20260709
DTEND;TZID=Europe/Berlin;VALUE=DATE:20260712
DTSTAMP:20251020T190757Z
URL:https://xc-run.de/events/eventkalender/restonica-trail-by-utmb/
SUMMARY:Restonica Trail by UTMB
DESCRIPTION:Korsika ist die viertgrößte Insel im Mittelmeer\, gehört pol
 itisch zu Frankreich und kann mit einer faszinierenden Natur und hohen Ber
 gen aufwarten. Diese einzigartige Insel ist am Wochenende Austragungsort d
 es Restonica Trail by UTMB und verspricht 2.200 Läufern ein unvergesslich
 es Rennen zur 15. Jubiläumsausgabe.Mit vier angebotenen Distanzen – von
  110 km bis 17 km – bietet die Veranstaltung einen der berühmtesten Wan
 derwege der Welt\, den GR20\, und verspricht wilde Landschaften\, zerklüf
 tete Berge und wunderschöne Täler.
ATTACH;FMTTYPE=image/jpeg:https://xc-run.de/wp-content/uploads/2025/07/UTM
 B.jpg
CATEGORIES:Trailevents,UTMB World Series
LOCATION:Corte\, Cours Paoli\, Corte\, Korsika\, Frankreich
GEO:42.308363;9.150095
X-APPLE-STRUCTURED-LOCATION;VALUE=URI;X-ADDRESS=Cours Paoli\, Corte\, Korsi
 ka\, Frankreich;X-APPLE-RADIUS=100;X-TITLE=Corte:geo:42.308363,9.150095
END:VEVENT
BEGIN:VTIMEZONE
TZID:Europe/Berlin
X-LIC-LOCATION:Europe/Berlin
BEGIN:DAYLIGHT
DTSTART:20260329T030000
TZOFFSETFROM:+0100
TZOFFSETTO:+0200
TZNAME:CEST
END:DAYLIGHT
END:VTIMEZONE
END:VCALENDAR