BEGIN:VCALENDAR
VERSION:2.0
PRODID:-//wp-events-plugin.com//7.2.3.1//EN
TZID:Europe/Berlin
X-WR-TIMEZONE:Europe/Berlin
BEGIN:VEVENT
UID:564@xc-run.de
DTSTART;TZID=Europe/Berlin;VALUE=DATE:20260711
DTEND;TZID=Europe/Berlin;VALUE=DATE:20260712
DTSTAMP:20260317T180716Z
URL:https://xc-run.de/events/eventkalender/rosengarten-schlern-sky-maratho
 n/
SUMMARY:Rosengarten Schlern Sky Marathon
DESCRIPTION:Der Rosengarten Schlern Sky Marathon ist ein Marathonlauf im al
 pinen Gelände und umrundet das Rosengarten-Massiv. Start ist in Tiers- St
 . Zyprian auf zirka 1.100 m.ü.M. Der höchste Punkt ist der Grasleitenpas
 s mit 2.610 Metern über dem Meeresspiegel.
ATTACH;FMTTYPE=image/jpeg:https://xc-run.de/wp-content/uploads/2026/03/Ros
 engarten_Schlern_Skymarathon_Credits_Franz_Spiess.jpg
CATEGORIES:Trailevents
LOCATION:Tiers Dorf\, Tiers\, Italien
GEO:46.468567;11.526051
X-APPLE-STRUCTURED-LOCATION;VALUE=URI;X-ADDRESS=Tiers\, Italien;X-APPLE-RAD
 IUS=100;X-TITLE=Tiers Dorf:geo:46.468567,11.526051
END:VEVENT
BEGIN:VTIMEZONE
TZID:Europe/Berlin
X-LIC-LOCATION:Europe/Berlin
BEGIN:DAYLIGHT
DTSTART:20260329T030000
TZOFFSETFROM:+0100
TZOFFSETTO:+0200
TZNAME:CEST
END:DAYLIGHT
END:VTIMEZONE
END:VCALENDAR