BEGIN:VCALENDAR
VERSION:2.0
PRODID:-//wp-events-plugin.com//7.2.3.1//EN
TZID:Europe/Berlin
X-WR-TIMEZONE:Europe/Berlin
BEGIN:VEVENT
UID:367@xc-run.de
DTSTART;TZID=Europe/Berlin;VALUE=DATE:20260626
DTEND;TZID=Europe/Berlin;VALUE=DATE:20260629
DTSTAMP:20251120T201619Z
URL:https://xc-run.de/events/eventkalender/sachsentrail-im-erzgebirge-2/
SUMMARY:SachsenTrail im Erzgebirge
DESCRIPTION:Faszination Trailrunning - schmale Pfade\, steile Anstiege und 
 eine wundervolle Laufkulisse! Das Trailcenter Rabenberg bietet alles\, was
  das Läuferherz höher schlagen lässt. Der Parcours – eigentlich exklu
 siv für Mountainbiker vorgesehen – kann zum SachsenTrail von Euch erobe
 rt werden.\nDer Sachsentrail ist Bestandteil des DUV- Cup und auch des Ger
 man Trailrunning Cup.
ATTACH;FMTTYPE=image/jpeg:https://xc-run.de/wp-content/uploads/2025/07/Kal
 enderOhne.jpg
CATEGORIES:Trailevents
LOCATION:Sportpark Rabenberg\, Neue Rabenberger Straße\, Breitenbrunn\, 08
 359\, Deutschland
GEO:50.46639039999999;12.744527699999935
X-APPLE-STRUCTURED-LOCATION;VALUE=URI;X-ADDRESS=Neue Rabenberger Straße\, 
 Breitenbrunn\, 08359\, Deutschland;X-APPLE-RADIUS=100;X-TITLE=Sportpark Ra
 benberg:geo:50.46639039999999,12.744527699999935
END:VEVENT
BEGIN:VTIMEZONE
TZID:Europe/Berlin
X-LIC-LOCATION:Europe/Berlin
BEGIN:DAYLIGHT
DTSTART:20260329T030000
TZOFFSETFROM:+0100
TZOFFSETTO:+0200
TZNAME:CEST
END:DAYLIGHT
END:VTIMEZONE
END:VCALENDAR