BEGIN:VCALENDAR
VERSION:2.0
PRODID:-//wp-events-plugin.com//7.2.3.1//EN
TZID:Europe/Berlin
X-WR-TIMEZONE:Europe/Berlin
BEGIN:VEVENT
UID:577@xc-run.de
DTSTART;TZID=Europe/Berlin;VALUE=DATE:20261107
DTEND;TZID=Europe/Berlin;VALUE=DATE:20261108
DTSTAMP:20260416T102137Z
URL:https://xc-run.de/events/eventkalender/saetila-trail/
SUMMARY:Sätila Trail
DESCRIPTION:Eine spannende Veranstaltung im schwedischen November! Auch wen
 n an der Küste\, in der Nähe von Göteburg um diese Jahreszeit meist kei
 n Schnee liegt\, so kann es doch empfindlich kalt werden! Trotzdem ist der
  Sätila Trail ein Geheimtipp - die Landschaft rund um Sätila ist ein abs
 olutes Highlight
ATTACH;FMTTYPE=image/jpeg:https://xc-run.de/wp-content/uploads/2025/07/Kal
 enderOhne.jpg
CATEGORIES:Trailevents
LOCATION:Sätila\, Sätila\, 
X-APPLE-STRUCTURED-LOCATION;VALUE=URI;X-ADDRESS=Sätila\, ;X-APPLE-RADIUS=1
 00;X-TITLE=Sätila:geo:0,0
END:VEVENT
BEGIN:VTIMEZONE
TZID:Europe/Berlin
X-LIC-LOCATION:Europe/Berlin
BEGIN:STANDARD
DTSTART:20261025T020000
TZOFFSETFROM:+0200
TZOFFSETTO:+0100
TZNAME:CET
END:STANDARD
END:VTIMEZONE
END:VCALENDAR