BEGIN:VCALENDAR
VERSION:2.0
PRODID:-//wp-events-plugin.com//7.2.3.1//EN
TZID:Europe/Berlin
X-WR-TIMEZONE:Europe/Berlin
BEGIN:VEVENT
UID:479@xc-run.de
DTSTART;TZID=Europe/Berlin;VALUE=DATE:20260523
DTEND;TZID=Europe/Berlin;VALUE=DATE:20260525
DTSTAMP:20251026T200334Z
URL:https://xc-run.de/events/eventkalender/salomon-ultra-trail-hungary/
SUMMARY:Salomon Ultra Trail Hungary
DESCRIPTION:Nur eine halbe Stunde von Budapest entfernt\, findet der Salomo
 n Ultra-Trail Hungary in der wunderschönen Stadt Szentendre (Unesco-Weltk
 ulturerbe) statt. Das Ziel liegt in der Innenstadt am Ufer der Donau. Die 
 Rennstrecke führt durch das grüne Herz Ungarns in den Pilis- und Visegra
 d-Bergen zwischen riesigen Buchen und Eichen. Bis auf einige kurze Abschni
 tte ist das Gelände weder felsig noch technisch\, so dass nur ein paar st
 eile Down- und Uphills bewältigt werden müssen. Bei diesem Rennen kann m
 an Sightseeing und die Lauleidenschaft kombinieren.
ATTACH;FMTTYPE=image/jpeg:https://xc-run.de/wp-content/uploads/2025/07/Kal
 enderOhne.jpg
CATEGORIES:Trailevents
LOCATION:Szentendre\, Duna korzó 5\, Szentendre\, Ungarn
GEO:47.673465;19.080889
X-APPLE-STRUCTURED-LOCATION;VALUE=URI;X-ADDRESS=Duna korzó 5\, Szentendre\
 , Ungarn;X-APPLE-RADIUS=100;X-TITLE=Szentendre:geo:47.673465,19.080889
END:VEVENT
BEGIN:VTIMEZONE
TZID:Europe/Berlin
X-LIC-LOCATION:Europe/Berlin
BEGIN:DAYLIGHT
DTSTART:20260329T030000
TZOFFSETFROM:+0100
TZOFFSETTO:+0200
TZNAME:CEST
END:DAYLIGHT
END:VTIMEZONE
END:VCALENDAR