BEGIN:VCALENDAR
VERSION:2.0
PRODID:-//wp-events-plugin.com//7.2.3.1//EN
TZID:Europe/Berlin
X-WR-TIMEZONE:Europe/Berlin
BEGIN:VEVENT
UID:327@xc-run.de
DTSTART;TZID=Europe/Berlin;VALUE=DATE:20260626
DTEND;TZID=Europe/Berlin;VALUE=DATE:20260628
DTSTAMP:20251212T103827Z
URL:https://xc-run.de/events/eventkalender/sauwald-trail-2/
SUMMARY:Sauwald Trail
DESCRIPTION:Der Sauwald Trail führt durch die typisch hügelige Landschaft
  des Innviertels inmitten der Donauregion Oberösterreich. Vorbei an klein
 en Ortschaften durch wunderschöne Natur mit sagenhaften Ausblicken läuft
  man durch insgesamt sieben Gemeinden des Sauwaldes. Neben der 46km langen
  Ultradistanz werden der 25km lange Frauscher 3 Berg Trail und der 13km la
 nge CAB Kösslbach Trail angeboten ...
ATTACH;FMTTYPE=image/jpeg:https://xc-run.de/wp-content/uploads/2022/10/BWM
 -SWT.jpg
CATEGORIES:Trailevents
LOCATION:Schardenberg\, Steinbrunner Straße 10\, Schardenberg\, Oberöster
 reich\, 4784\, Innviertel\, Österreich
GEO:48.522862;13.501949
X-APPLE-STRUCTURED-LOCATION;VALUE=URI;X-ADDRESS=Steinbrunner Straße 10\, S
 chardenberg\, Oberösterreich\, 4784\, Innviertel\, Österreich;X-APPLE-RA
 DIUS=100;X-TITLE=Schardenberg:geo:48.522862,13.501949
END:VEVENT
BEGIN:VTIMEZONE
TZID:Europe/Berlin
X-LIC-LOCATION:Europe/Berlin
BEGIN:DAYLIGHT
DTSTART:20260329T030000
TZOFFSETFROM:+0100
TZOFFSETTO:+0200
TZNAME:CEST
END:DAYLIGHT
END:VTIMEZONE
END:VCALENDAR